BEGIN:VCALENDAR
VERSION:2.0
PRODID:-//ChamberMaster//Event Calendar 2.0//EN
METHOD:PUBLISH
X-PUBLISHED-TTL:P3D
REFRESH-INTERVAL:P3D
CALSCALE:GREGORIAN
BEGIN:VEVENT
DTSTART;VALUE=DATE:20160905
DTEND;VALUE=DATE:20160919
TRANSP:TRANSPARENT
X-MICROSOFT-CDO-ALLDAYEVENT:TRUE
SUMMARY:26th annual Capriccio
DESCRIPTION:Celebration of the arts. Art gallery tours\, concerts\, kite festival\, and more.
X-ALT-DESC;FMTTYPE=text/html:Celebration of the arts. Art gallery tours\, concerts\, kite festival\, and more.
LOCATION:Throughout Ogunquit
UID:e.882.49
SEQUENCE:3
DTSTAMP:20260422T182017Z
URL:https://chamber.ogunquit.org/events/details/26th-annual-capriccio-09-05-2016-49
END:VEVENT

END:VCALENDAR
