BEGIN:VCALENDAR
VERSION:2.0
PRODID:-//ChamberMaster//Event Calendar 2.0//EN
METHOD:PUBLISH
X-PUBLISHED-TTL:P3D
REFRESH-INTERVAL:P3D
CALSCALE:GREGORIAN
BEGIN:VEVENT
DTSTART:20170910T140000Z
DTEND:20170910T200000Z
X-MICROSOFT-CDO-ALLDAYEVENT:FALSE
SUMMARY:30th Laudholm Nature Crafts Festival
DESCRIPTION:The Laudholm Nature Crafts Festival brings 130 of New England's finest artisans to the Wells Reserve at Laudholm\, a spectacular setting on Maine's south coast. Now in its 30th year\, the event features jewelry\, apparel\, painting\, sculpture\, photography\, and more. Good food\, music\, and beautiful natural surroundings round out the indoor/outdoor show. Proceeds benefit education\, conservation\, and research at the Wells Reserve. Admission.
X-ALT-DESC;FMTTYPE=text/html:The Laudholm Nature Crafts Festival brings 130 of New England&#39\;s finest artisans to the Wells Reserve at Laudholm\, a spectacular setting on Maine&#39\;s south coast. Now in its 30th year\, the event features jewelry\, apparel\, painting\, sculpture\, photography\, and more. Good food\, music\, and beautiful natural surroundings round out the indoor/outdoor show. Proceeds benefit education\, conservation\, and research at the Wells Reserve. Admission.<br />\n<br />\n&nbsp\;
LOCATION:Wells Reserve at Laudholm\, just off US Route 1 near the Wells-Kennebunk line.
UID:e.882.3644
SEQUENCE:3
DTSTAMP:20260424T102433Z
URL:https://chamber.ogunquit.org/events/details/30th-laudholm-nature-crafts-festival-09-10-2017-3644
END:VEVENT

END:VCALENDAR
