BEGIN:VCALENDAR
VERSION:2.0
PRODID:-//ChamberMaster//Event Calendar 2.0//EN
METHOD:PUBLISH
X-PUBLISHED-TTL:P3D
REFRESH-INTERVAL:P3D
CALSCALE:GREGORIAN
BEGIN:VEVENT
DTSTART:20160829T130000Z
DTEND:20160829T203000Z
X-MICROSOFT-CDO-ALLDAYEVENT:FALSE
SUMMARY:43rd Annual Sidewalk Art Show and Sale
DESCRIPTION:Congratulations to the winners of the 2016 Art Show:\n\n1st: Stephen Previte - judges were interested by his going "rogue\, moving from landscapes to industrial" themes.\n\n 2nd: William Cantwell - judges called his work "exhuberant\, joyful and spirited". \n\n3rd: Denis Leblanc - judges said his work is "beautifully executed and traditional".\n\nHonorable Mention: Josh Axelrod - judges liked the consistancy of his pathways motif with handmade wooden frames.\n\n\n\nFine artists and photographers will show and sell their works in downtown Ogunquit.
X-ALT-DESC;FMTTYPE=text/html:Congratulations to the winners of the 2016 Art Show:<br />\n1st: Stephen Previte - judges were interested by his going &quot\;rogue\, moving from landscapes to industrial&quot\; themes.<br />\n&#8203\;2nd: William Cantwell - judges called his work &quot\;exhuberant\, joyful and spirited&quot\;.&nbsp\;<br />\n3rd: Denis Leblanc - judges said his work is &quot\;beautifully executed and traditional&quot\;.<br />\nHonorable Mention: Josh Axelrod&nbsp\;- judges liked the consistancy&nbsp\;of his pathways motif with handmade wooden frames.<br />\n<br />\nFine artists and photographers will show and sell their works in downtown Ogunquit.
LOCATION:Downtown on the sidewalks and in Jacob's Lot.
UID:e.882.14
SEQUENCE:3
DTSTAMP:20260425T125430Z
URL:https://chamber.ogunquit.org/events/details/43rd-annual-sidewalk-art-show-and-sale-08-29-2016-14
END:VEVENT

END:VCALENDAR
