BEGIN:VCALENDAR
VERSION:2.0
PRODID:-//ChamberMaster//Event Calendar 2.0//EN
METHOD:PUBLISH
X-PUBLISHED-TTL:P3D
REFRESH-INTERVAL:P3D
CALSCALE:GREGORIAN
BEGIN:VEVENT
DTSTART:20260531T233000Z
DTEND:20260601T010000Z
X-MICROSOFT-CDO-ALLDAYEVENT:FALSE
SUMMARY:An Evening with Suzy Bogguss
DESCRIPTION:Grammy-winning country and Americana artist Suzy Bogguss delivers an intimate evening of storytelling\, acoustic arrangements\, and her signature warm vocals. Known for hits across country\, folk\, and Americana\, she brings a heartfelt\, personal performance filled with classics\, deep cuts\, and fan favorites.
X-ALT-DESC;FMTTYPE=text/html:Grammy-winning country and Americana artist Suzy Bogguss delivers an intimate evening of storytelling\, acoustic arrangements\, and her signature warm vocals. Known for hits across country\, folk\, and Americana\, she brings a heartfelt\, personal performance filled with classics\, deep cuts\, and fan favorites.
LOCATION:Jonathan's Ogunquit 92 Bourne Ln\, Ogunquit\, ME 03907
UID:e.882.58339
SEQUENCE:3
DTSTAMP:20260422T114357Z
URL:https://chamber.ogunquit.org/events/details/an-evening-with-suzy-bogguss-58339
END:VEVENT

END:VCALENDAR
