BEGIN:VCALENDAR
VERSION:2.0
PRODID:-//ChamberMaster//Event Calendar 2.0//EN
METHOD:PUBLISH
X-PUBLISHED-TTL:P3D
REFRESH-INTERVAL:P3D
CALSCALE:GREGORIAN
BEGIN:VEVENT
DTSTART:20260718T230000Z
DTEND:20260719T003000Z
X-MICROSOFT-CDO-ALLDAYEVENT:FALSE
SUMMARY:An Evening with Tom Rush
DESCRIPTION:Folk legend Tom Rush brings his warm voice\, masterful guitar work\, and timeless storytelling to Jonathan's Ogunquit. Known for shaping the folk revival and inspiring generations of singer-songwriters\, Rush delivers a heartfelt evening of classics\, new material\, and the signature humor and charm that make his performances unforgettable.
X-ALT-DESC;FMTTYPE=text/html:Folk legend Tom Rush brings his warm voice\, masterful guitar work\, and timeless storytelling to Jonathan&rsquo\;s Ogunquit. Known for shaping the folk revival and inspiring generations of singer-songwriters\, Rush delivers a heartfelt evening of classics\, new material\, and the signature humor and charm that make his performances unforgettable.
LOCATION:Jonathan's Ogunquit 92 Bourne Ln\, Ogunquit\, ME 03907
UID:e.882.58355
SEQUENCE:3
DTSTAMP:20260422T124436Z
URL:https://chamber.ogunquit.org/events/details/an-evening-with-tom-rush-58355
END:VEVENT

END:VCALENDAR
