BEGIN:VCALENDAR
VERSION:2.0
PRODID:-//ChamberMaster//Event Calendar 2.0//EN
METHOD:PUBLISH
X-PUBLISHED-TTL:P3D
REFRESH-INTERVAL:P3D
CALSCALE:GREGORIAN
BEGIN:VEVENT
DTSTART:20260524T153000Z
DTEND:20260524T180000Z
X-MICROSOFT-CDO-ALLDAYEVENT:FALSE
SUMMARY:Anchor's Memorial Day Smoke Off
DESCRIPTION:Join us for Anchor's Memorial Day Smoke Off\n\nAn afternoon of great food and community\, honoring our veterans and active duty. Veterans and active-duty members are invited to attend with a guest and enjoy a complimentary smoked lunch with all the fixings! Veterans will vote for the best smoked meat\, and the smoker will win a prize. \n\nSunday\, May 24 | 11:30 AM   2 PM\n\nWells & Ogunquit Center\, 300 Post Rd\, Wells\n\nLimited Spots! Kindly RSVP using the link below to reserve your spot.\n\nhttps://www.eventbrite.com/e/1986645587431?aff=oddtdtcreator
X-ALT-DESC;FMTTYPE=text/html:Join us for Anchor&rsquo\;s Memorial Day Smoke Off<br />\nAn afternoon of great food and community\, honoring our veterans and active duty. Veterans and active-duty members are invited to attend with a guest and enjoy a complimentary smoked lunch with all the fixings! Veterans will vote for the best smoked meat\, and the smoker will win a prize.&nbsp\;<br />\nSunday\, May 24 | 11:30 AM &ndash\; 2 PM<br />\nWells &amp\; Ogunquit Center\, 300 Post Rd\, Wells<br />\nLimited Spots! Kindly RSVP using the link below to reserve your spot.<br />\n<a href="http://??Limited Spots! Kindly RSVP using the link below to reserve your spot ?? https://www.eventbrite.com/e/1986645587431?aff=oddtdtcreator">https://www.eventbrite.com/e/1986645587431?aff=oddtdtcreator</a>
LOCATION:Wells & Ogunquit Center at Moody 300 Post Road\, Wells\, ME 04090
UID:e.882.58377
SEQUENCE:3
DTSTAMP:20260422T114323Z
URL:https://chamber.ogunquit.org/events/details/anchor-s-memorial-day-smoke-off-58377
END:VEVENT

END:VCALENDAR
