BEGIN:VCALENDAR
VERSION:2.0
PRODID:-//ChamberMaster//Event Calendar 2.0//EN
METHOD:PUBLISH
X-PUBLISHED-TTL:P3D
REFRESH-INTERVAL:P3D
CALSCALE:GREGORIAN
BEGIN:VEVENT
DTSTART:20260523T234500Z
DTEND:20260524T011500Z
X-MICROSOFT-CDO-ALLDAYEVENT:FALSE
SUMMARY:Another Tequila Sunrise – Eagles Tribute Band
DESCRIPTION:A nationally acclaimed Eagles tribute delivering the full live Eagles experience\, featuring faithful recreations of classics across every era   from country-rock staples to stadium anthems. The band performs hits\, deep cuts\, acoustic sets\, and solo material from Don Henley\, Joe Walsh\, and Glenn Frey with meticulous detail and powerful musicianship.
X-ALT-DESC;FMTTYPE=text/html:A nationally acclaimed Eagles tribute delivering the full live Eagles experience\, featuring faithful recreations of classics across every era &mdash\; from country-rock staples to stadium anthems. The band performs hits\, deep cuts\, acoustic sets\, and solo material from Don Henley\, Joe Walsh\, and Glenn Frey with meticulous detail and powerful musicianship.
LOCATION:Venue Address: 92 Bourne Ln\, Ogunquit\, ME 03907
UID:e.882.58335
SEQUENCE:3
DTSTAMP:20260422T114410Z
URL:https://chamber.ogunquit.org/events/details/another-tequila-sunrise-eagles-tribute-band-05-23-2026-58335
END:VEVENT

END:VCALENDAR
