BEGIN:VCALENDAR
VERSION:2.0
PRODID:-//ChamberMaster//Event Calendar 2.0//EN
METHOD:PUBLISH
X-PUBLISHED-TTL:P3D
REFRESH-INTERVAL:P3D
CALSCALE:GREGORIAN
BEGIN:VEVENT
DTSTART;VALUE=DATE:20181001
DTEND;VALUE=DATE:20181101
TRANSP:TRANSPARENT
X-MICROSOFT-CDO-ALLDAYEVENT:TRUE
SUMMARY:ART & ANTIQUEFEST 2018
DESCRIPTION:ART & ANTIQUEFEST: This event was created to increase awareness of our region's artistic heritage and antiques shops. Visit participating galleries\, museums and shops for great deals on art and antiques throughout southern Maine. Click here for a map of participants. Presented in conjunction with the York Region Chamber of Commerce.\n\n\n\nPARTICIPANTS:\n\nAudrey Gottlieb Photography: 226 York Street\, 2nd floor\, York\, 03909: Unique dioramas and memory boxes\, collectible items\, photographs and greeting cards and sculptural assemblages. Hours: Monday - Friday by appointment or by chance\, Saturday & Sunday's 9 am - 3 pm.\n\n\n\nThe Clown: 659 US Route 1\, York\, 03909: Offering an eclectic array of wine\, art\, antiques and gifts.  Wine tasting Friday\, October 12th\, 5 pm - 8 pm. Store Hours: Mon. - Sat. 10 am - 6 pm (Thursdays til 7) Closed Sundays\n\n\n\nDavid Sullivan Photography at Spoiled Rotten: 27 Beach Street\, Ogunquit\, 03907: Featuring the photography of local artist David Sullivan. Hours: Weekdays:10 am - pm Weekends: 10 am - 8 pm\n\n\n\nGeorge Marshall Stone Gallery of Old York: 140 Lindsay Road\, York\, 03909: Featuring exhibitions from "Maine Dutch Masters" and "Tap Root" New England Artisits . Hours: Wed. - Sat. 10 am - 4 pm & Sun. 1 pm - 4 pm\n\n\n\nThe Green Heron: 16 Shore Road\, Ogunquit\, 03907: Artist owned and representing over 30 artists and fine craftspeople from New England. Visit and you will "Discover Originals" from: paintings\, sculptures\, mosaics\, pottery\, glass\, wood and jewelry. During the month of October when you visit\, receive a ceramic heart\, representing your love of art and Ogunquit. Visit our Facebook page for art related activities planned for the month. Hours: Daily 10 am - 6 pm\n\n\n\nHaley Art Gallery: 178 Haley Road\, Kittery 03904: Representing many Maine Artist. Visit the gallery to find out more about special sales. Hours: Thursday - Saturday 11 am - 6 pm\n\n\n\nHidden Treasures: 26 US Route 1\, York 03909: Group Antique and Collectible Shop Consignment\, rental of vendor space. Hours: Daily 10 am - 6 pm\n\n\n\nHutchins Antiques Etc: 166 Main Street\, Ogunquit\, 03907: Enjoy an eclectic mix of vintage and antique finds from 65 dealers displayed in the huge spaces of a former car dealership. Hours: Daily 10 am - 4:45 pm\n\n\n\nJack Duford Fine Images: 35 Constance Lane\, Perkins Cove\, Ogunquit\, 03907: Nautical Giclee prints from the Maine Coast. 10% off when you mention Art & Antiquefest Hours: Daily 10 am - 4 pm\n\n\n\nJust Us Chickens Gallery: 156 A State Road\, Kittery\, 03904: An artists co-op that has unique locally hatched hand-crafted arts. Oct. 6th\, Outdoor Artist Market\, 11 am - 3 pm. Oct. 20th\, Children's Book Signing\, "In the Valley of the Dragons"\, Author: Nancy Donovan\, Illustrator: Susan Spelman\,11 am - 4 pm Gallery Hours: Open Year Round\, Mon. - Sat. 10 am - 5:30 pm\, Closed Sundays\n\n\n\nKittery Art Association: 8 Coleman Ave\, Kittery Point\, 03905: Ongoing exhibits in our gallery. "En Plein Air" All-Member exhibit Thursday\, October 11th through Sunday\, Nov. 4th. Hours: Thursdays 2 pm -5 pm\, Sat/Sun 11 am - 5 pm\, *Opening Reception: Sunday Oct. 14th 4 pm - 6 pm.\n\n\n\nOgunquit Heritage Museum (OHM): 86 Obeds Lane\, Ogunquit\, 03907: OHM collects\, preserves and exhibits items and documents related to Ogunquit's Heritage. Hours: June 1 - Oct. 31\; Tues. - Sat 1 pm - 5 pm.\n\n\n\nOgunquit Museum of American Art: 543 Shore Road\, Ogunquit\, 03907: Ongoing special exibits and extraordinary gardens and sculptures in a breathtaking setting overlooking the ocean. Hours: May 1 - Oct. 31\, 10 am - 5 pm\n\n\n\nSea Glass & Shore: 161 Main Street\, Ogunquit\, 03907: Artist Demonstration & workshop. Meet the artist/gallery reception. 25% off sea glass & sea pottery\, jewelry & sculpture. 10% off stained glass. Hours: Th. & Fri. 12 pm - 5 pm\, Sat. 10 am - 6 pm\n\n\n\nSea Rose Gallery : 325 Long Beach Ave.\, York\, ME 03909: Watercolor and Oil Paintings by Helen Rose Hennessey. 25% sale on all framed paintings Hours: Daily 12 pm - 5 pm\n\n\n\nScully Gallery: 116-1 Perkins Cove Road\, Ogunquit\, 03907: Fine Art Gallery featuring original paintings by Fran Scully. Mention this ad and receive 10% off. Hours: Daily 10 am - 5 pm\n\n\n\nThe Shops at Cape Neddick: 1300 US Route 1\, Cape Neddick\, 03902: A specialty boutique mall comprised of numerous shops featuring daily artists.. Hours: Daily 10 am - 6 pm\n\n\n\nThe Village Gallery: 244 York Street\, York 03909: A Fine Art Gallery. Hours: visit their website for more detail http://www.theyorkvillagegallery.com/history/
X-ALT-DESC;FMTTYPE=text/html:ART &amp\; ANTIQUEFEST<span style="display: inline !important\; float: none\; background-color: rgb(255\, 255\, 255)\; color: rgb(51\, 51\, 51)\; cursor: text\; font-family: sans-serif\,Arial\,Verdana\," trebuchet="">: <span style="font-size:12px\;">This event was created to increase awareness of our region&#39\;s artistic heritage and antiques shops. Visit participating galleries\, museums and shops for great deals on art and antiques throughout southern Maine. <a href="https://chambermaster.blob.core.windows.net/userfiles/UserFiles/chambers/882/File/AAfest2018.pdf" target="_blank">Click here for a map of participants</a>. Presented in conjunction with the York Region Chamber of Commerce.</span><br />\n<br />\nPARTICIPANTS:</span><br />\n<b>Audrey Gottlieb Photography</b><span style="display: inline !important\; float: none\; background-color: rgb(255\, 255\, 255)\; color: rgb(51\, 51\, 51)\; cursor: text\; font-family: sans-serif\,Arial\,Verdana\," trebuchet="">: <span style="font-size:12px\;">226 York Street\, 2nd floor\, York\, 03909: Unique dioramas and memory boxes\, collectible items\, photographs and greeting cards and sculptural assemblages. Hours: Monday - Friday by appointment or by chance\, Saturday &amp\; Sunday&#39\;s 9 am - 3 pm.</span></span><br />\n<br />\n<b>The Clown</b><span style="background-color: rgb(255\, 255\, 255)\; color: rgb(51\, 51\, 51)\; cursor: text\; display: inline\; float: none\; font-family: sans-serif\,Arial\,Verdana\," trebuchet="">: <span style="font-size: 12px\;">659 US Route 1\, York\, 03909: Offering an eclectic array of wine\, art\, antiques and gifts.&nbsp\; Wine tasting Friday\, October 12th\, 5 pm - 8 pm. Store Hours: Mon. - Sat. 10 am - 6 pm (Thursdays til 7) Closed Sundays</span></span><br />\n<br />\n<b>David Sullivan Photography at</b> <strong>Spoiled Rotten</strong><span style="background-color: rgb(255\, 255\, 255)\; color: rgb(51\, 51\, 51)\; cursor: text\; display: inline\; float: none\; font-family: sans-serif\,Arial\,Verdana\," trebuchet="">: <span style="font-size:12px\;">27 Beach Street\, Ogunquit\, 03907: Featuring the photography of local artist David Sullivan. Hours: Weekdays:10 am - pm Weekends: 10 am - 8 pm</span></span><br />\n<br />\n<b>George Marshall Stone Gallery of Old York</b><span style="background-color: rgb(255\, 255\, 255)\; color: rgb(51\, 51\, 51)\; cursor: text\; display: inline\; float: none\; font-family: sans-serif\,Arial\,Verdana\," trebuchet="">: <span style="font-size:12px\;">140 Lindsay Road\, York</span></span><span style="background-color: rgb(255\, 255\, 255)\; color: rgb(51\, 51\, 51)\; cursor: text\; display: inline\; float: none\; font-family: sans-serif\,Arial\,Verdana\," trebuchet=""><span style="font-size:12px\;">\, 03909: Featuring exhibitions from &quot\;Maine Dutch Masters&quot\; and &quot\;Tap Root&quot\; New England Artisits . Hours: Wed. - Sat. 10 am - 4 pm &amp\; Sun. 1 pm - 4 pm</span></span><br />\n<br />\n<b>The Green Heron</b><span style="background-color: rgb(255\, 255\, 255)\; color: rgb(51\, 51\, 51)\; cursor: text\; display: inline\; float: none\; font-family: sans-serif\,Arial\,Verdana\," trebuchet="">: <span style="font-size:12px\;">16 Shore Road\, Ogunquit\, 03907: Artist owned and representing over 30 artists and fine craftspeople from New England. Visit and you will &quot\;Discover Originals&quot\; from: paintings\, sculptures\, mosaics\, pottery\, glass\, wood and jewelry. During the month of October when you visit\, receive a ceramic heart\, representing your love of art and Ogunquit. Visit our Facebook page for art related activities planned for the month. Hours: Daily 10 am - 6 pm</span></span><br />\n<br />\n<b>Haley Art Gallery</b><span style="background-color: rgb(255\, 255\, 255)\; color: rgb(51\, 51\, 51)\; cursor: text\; display: inline\; float: none\; font-family: sans-serif\,Arial\,Verdana\," trebuchet="">: <span style="font-size:12px\;">178 Haley Road\, Kittery 03904: Representing many Maine Artist. Visit the gallery to find out more about special sales. Hours: Thursday - Saturday 11 am - 6 pm</span></span><br />\n<br />\n<b>Hidden Treasures</b><span style="background-color: rgb(255\, 255\, 255)\; color: rgb(51\, 51\, 51)\; cursor: text\; display: inline\; float: none\; font-family: sans-serif\,Arial\,Verdana\," trebuchet="">: <span style="font-size:12px\;">26 US Route 1\, York 03909: Group Antique and Collectible Shop Consignment\, rental of vendor space. Hours: Daily 10 am - 6 pm</span></span><br />\n<br />\n<b>Hutchins Antiques Etc</b><span style="background-color: rgb(255\, 255\, 255)\; color: rgb(51\, 51\, 51)\; cursor: text\; display: inline\; float: none\; font-family: sans-serif\,Arial\,Verdana\," trebuchet="">: <span style="font-size:12px\;">166 Main Street\, Ogunquit\, 03907: Enjoy an eclectic mix of vintage and antique finds from 65 dealers displayed in the huge spaces of a former car dealership. Hours: Daily 10 am - 4:45 pm</span></span><br />\n<br />\n<b>Jack Duford Fine Images</b><span style="background-color: rgb(255\, 255\, 255)\; color: rgb(51\, 51\, 51)\; cursor: text\; display: inline\; float: none\; font-family: sans-serif\,Arial\,Verdana\," trebuchet="">: <span style="font-size:12px\;">35 Constance Lane\, Perkins Cove\, Ogunquit\, 03907: Nautical Giclee prints from the Maine Coast. 10% off when you mention Art &amp\; Antiquefest Hours: Daily 10 am - 4 pm</span></span><br />\n<br />\n<b>Just Us Chickens Gallery</b><span style="background-color: rgb(255\, 255\, 255)\; color: rgb(51\, 51\, 51)\; cursor: text\; display: inline\; float: none\; font-family: sans-serif\,Arial\,Verdana\," trebuchet="">: <span style="font-size:12px\;">156 A State Road\, Kittery\, 03904: An artists co-op that has unique locally hatched hand-crafted arts. Oct. 6th\, Outdoor Artist Market\, 11 am - 3 pm. Oct. 20th\, Children&#39\;s Book Signing\, &quot\;In the Valley of the Dragons&quot\;\, Author: Nancy Donovan\, Illustrator: Susan Spelman\,11 am - 4 pm Gallery Hours: Open Year Round\, Mon. - Sat. 10 am - 5:30 pm\, Closed Sundays</span></span><br />\n<br />\n<b>Kittery Art Association</b><span style="background-color: rgb(255\, 255\, 255)\; color: rgb(51\, 51\, 51)\; cursor: text\; display: inline\; float: none\; font-family: sans-serif\,Arial\,Verdana\," trebuchet="">: <span style="font-size:12px\;">8 Coleman Ave\, Kittery Point\, 03905: Ongoing exhibits in our gallery. &quot\;En Plein Air&quot\; All-Member exhibit Thursday\, October 11th through Sunday\, Nov. 4th. Hours: Thursdays 2 pm -5 pm\, Sat/Sun 11 am - 5 pm\, *Opening Reception: Sunday Oct. 14th 4 pm - 6 pm.</span></span><br />\n<br />\n<b>Ogunquit Heritage Museum (OHM)</b><span style="background-color: rgb(255\, 255\, 255)\; color: rgb(51\, 51\, 51)\; cursor: text\; display: inline\; float: none\; font-family: sans-serif\,Arial\,Verdana\," trebuchet="">: <span style="font-size: 12px\;">86 Obeds Lane\, Ogunquit\, 03907: OHM collects\, preserves and exhibits items and documents related to Ogunquit&#39\;s Heritage. Hours: June 1 - Oct. 31\; Tues. - Sat 1 pm - 5 pm.</span></span><br />\n<br />\n<b>Ogunquit Museum of American Art</b><span style="background-color: rgb(255\, 255\, 255)\; color: rgb(51\, 51\, 51)\; cursor: text\; display: inline\; float: none\; font-family: sans-serif\,Arial\,Verdana\," trebuchet="">: <span style="font-size: 12px\;">543 Shore Road\, Ogunquit\, 03907: Ongoing special exibits and extraordinary gardens and sculptures in a breathtaking setting overlooking the ocean. Hours: May 1 - Oct. 31\, 10 am - 5 pm</span></span><br />\n<br />\n<b>Sea Glass &amp\; Shore</b><span style="background-color: rgb(255\, 255\, 255)\; color: rgb(51\, 51\, 51)\; cursor: text\; display: inline\; float: none\; font-family: sans-serif\,Arial\,Verdana\," trebuchet="">: <span style="font-size:12px\;">161 Main Street\, Ogunquit\, 03907: Artist Demonstration &amp\; workshop. Meet the artist/gallery reception. 25% off sea glass &amp\; sea pottery\, jewelry &amp\; sculpture. 10% off stained glass. Hours: Th. &amp\; Fri. 12 pm - 5 pm\, Sat. 10 am - 6 pm</span></span><br />\n<br />\n<b>Sea Rose Gallery </b><span style="background-color: rgb(255\, 255\, 255)\; color: rgb(51\, 51\, 51)\; cursor: text\; display: inline\; float: none\; font-family: sans-serif\,Arial\,Verdana\," trebuchet="">: <span style="font-size:12px\;">325 Long Beach Ave.\, York\, ME 03909: Watercolor and Oil Paintings by Helen Rose Hennessey. 25% sale on all framed paintings Hours: Daily 12 pm - 5 pm</span></span><br />\n<br />\n<b>Scully Gallery</b><span style="background-color: rgb(255\, 255\, 255)\; color: rgb(51\, 51\, 51)\; cursor: text\; display: inline\; float: none\; font-family: sans-serif\,Arial\,Verdana\," trebuchet="">: <span style="font-size:12px\;">116-1 Perkins Cove Road\, Ogunquit\, 03907: Fine Art Gallery featuring original paintings by Fran Scully. Mention this ad and receive 10% off. Hours: Daily 10 am - 5 pm</span></span><br />\n<br />\n<b>The Shops at Cape Neddick</b><span style="background-color: rgb(255\, 255\, 255)\; color: rgb(51\, 51\, 51)\; cursor: text\; display: inline\; float: none\; font-family: sans-serif\,Arial\,Verdana\," trebuchet="">: <span style="font-size:12px\;">1300 US Route 1\, Cape Neddick\, 03902: A specialty boutique mall comprised of numerous shops featuring daily artists.. Hours: Daily 10 am - 6 pm</span></span><br />\n<br />\n<b>The Village Gallery</b><span style="background-color: rgb(255\, 255\, 255)\; color: rgb(51\, 51\, 51)\; cursor: text\; display: inline\; float: none\; font-family: sans-serif\,Arial\,Verdana\," trebuchet="">: <span style="font-size:12px\;">244 York Street\, York 03909: A Fine Art Gallery. Hours: visit their website for more detail&nbsp\;</span></span><span style="font-size:12px\;"><a href="http://www.theyorkvillagegallery.com/history/">http://www.theyorkvillagegallery.com/history/</a></span><br />\n<br />\n&nbsp\;
LOCATION:Locations vary. Please see description to the left.
UID:e.882.7068
SEQUENCE:3
DTSTAMP:20260421T084631Z
URL:https://chamber.ogunquit.org/events/details/art-antiquefest-2018-7068
END:VEVENT

END:VCALENDAR
