BEGIN:VCALENDAR
VERSION:2.0
PRODID:-//ChamberMaster//Event Calendar 2.0//EN
METHOD:PUBLISH
X-PUBLISHED-TTL:P3D
REFRESH-INTERVAL:P3D
CALSCALE:GREGORIAN
BEGIN:VEVENT
DTSTART;VALUE=DATE:20180907
DTEND;VALUE=DATE:20180908
TRANSP:TRANSPARENT
X-MICROSOFT-CDO-ALLDAYEVENT:TRUE
SUMMARY:Lynne Chinn\, Award Winning Mosaic Artist
DESCRIPTION:Green Heron mosaic artist\, Nancy Maloney\, has been working with mosaics for 10 years.  Throughout her journey\, she has admired the fine and delicate mosaic work of Lynne Chinn. Lynne's ability to create unique substrates embellished with the finest mosaic materials displays her amazing artistic talent\, creativity\, and technical achievement. Lynne is sharing her love of the sea and mosaic talent with The Green Heron during the month of September. Come see her ocean inspired mosaic art and meet Lynne\, Friday\, September 7th\, from 5-7 pm at the Green Heron\, 16 Shore Rd\, Ogunquit\, Maine.\n\n"Whether I'm making stone and glass mosaics that appear to softly billow with the wind\, lift as in a cumulus cloud\, or flow in rivulets as in water\, it is my intent to make them appear to have a lightness of mass. "\n\n-Lynne Chinn\, Mosaic Artist
X-ALT-DESC;FMTTYPE=text/html:<p style="margin-left:0px\; margin-right:0px\; text-align:left">Green Heron mosaic artist\, Nancy Maloney\, has been working with mosaics for 10 years.&nbsp\; Throughout her journey\, she has admired the fine and delicate mosaic work of Lynne Chinn. Lynne&rsquo\;s ability to create unique substrates embellished with the finest mosaic materials displays her amazing artistic talent\, creativity\, and technical achievement. Lynne is sharing her love of the sea and mosaic talent with The Green Heron during the month of September. Come see her ocean inspired mosaic art and meet Lynne\, Friday\, September 7<sup>th</sup>\, from 5-7 pm at the Green Heron\, 16 Shore Rd\, Ogunquit\, Maine.</p>\n\n<p style="margin-left:0px\; margin-right:0px\; text-align:left"><span style="background-color:transparent\; color:rgb(0\, 0\, 0)\; font-family:century gothic\,sans-serif\; font-size:12px">&ldquo\;Whether I&rsquo\;m making stone and glass mosaics that appear to softly billow with the wind\, lift as in a cumulus cloud\, or flow in rivulets as in water\, it is my intent to make them appear to have a lightness of mass. &ldquo\;</span></p>\n\n<p style="margin-left:0px\; margin-right:0px\; text-align:left"><span style="background-color:transparent\; color:rgb(0\, 0\, 0)\; font-family:century gothic\,sans-serif\; font-size:12px">-Lynne Chinn\, </span><span style="background-color:transparent\; font-family:century gothic\,sans-serif\; font-size:12px">Mosaic Artist</span></p>\n
LOCATION:The Green Heron 16 Shore Rd Ogunquit\, ME 03907
UID:e.882.7067
SEQUENCE:3
DTSTAMP:20260421T200835Z
URL:https://chamber.ogunquit.org/events/details/artist-reception-at-the-green-heron-7067
END:VEVENT

END:VCALENDAR
