BEGIN:VCALENDAR
VERSION:2.0
PRODID:-//ChamberMaster//Event Calendar 2.0//EN
METHOD:PUBLISH
X-PUBLISHED-TTL:P3D
REFRESH-INTERVAL:P3D
CALSCALE:GREGORIAN
BEGIN:VEVENT
DTSTART:20260611T230000Z
DTEND:20260612T003000Z
X-MICROSOFT-CDO-ALLDAYEVENT:FALSE
SUMMARY:Atlantic Harmonies Youth Choirs
DESCRIPTION:The Atlantic Harmonies Youth Choirs showcase talented young vocalists performing a dynamic program of choral music. Featuring contemporary arrangements\, classic selections\, and ensemble harmonies\, this uplifting concert highlights the skill\, passion\, and artistry of the region's rising singers.
X-ALT-DESC;FMTTYPE=text/html:The Atlantic Harmonies Youth Choirs showcase talented young vocalists performing a dynamic program of choral music. Featuring contemporary arrangements\, classic selections\, and ensemble harmonies\, this uplifting concert highlights the skill\, passion\, and artistry of the region&rsquo\;s rising singers.
LOCATION:Jonathan's Ogunquit 92 Bourne Ln\, Ogunquit\, ME 03907
UID:e.882.58345
SEQUENCE:3
DTSTAMP:20260422T132131Z
URL:https://chamber.ogunquit.org/events/details/atlantic-harmonies-youth-choirs-58345
END:VEVENT

END:VCALENDAR
