BEGIN:VCALENDAR
VERSION:2.0
PRODID:-//ChamberMaster//Event Calendar 2.0//EN
METHOD:PUBLISH
X-PUBLISHED-TTL:P3D
REFRESH-INTERVAL:P3D
CALSCALE:GREGORIAN
BEGIN:VEVENT
DTSTART:20260503T160000Z
DTEND:20260503T200000Z
X-MICROSOFT-CDO-ALLDAYEVENT:FALSE
SUMMARY:Aura Photo Reading
DESCRIPTION:Get her something a little different for Mother's Day or for yourself! We teamed up with Light + Keys to bring you an unforgettable experience. If you like getting your tarot cards read\, you'll love Aura Photos! \n\n \n\nAura Photos are like a little glimpse into the energy you are carrying in this moment   the colors\, emotions\, dreams\, and magic moving through your spirit. Your aura is an emanation of your energy centers and can shift depending on what is happening in your life\, your emotions\, stress levels\, healing\, and growth. Each photo captures your unique aura and comes with insight into what your energy may be calling in\, releasing\, or ready to awaken. It is part self-discovery\, part healing\, and part pure magic.\n\n \n\nYou'll receive:\n\n  A digital aura photograph\n\n  A Polaroid aura portrait\n\n  A brief intuitive interpretation of your colors with an Oracle Card pull for additional guidance.
X-ALT-DESC;FMTTYPE=text/html:<div>Get her something a little different for Mother&rsquo\;s Day or for yourself! We teamed up with Light + Keys to bring you an unforgettable experience. If you like getting your tarot cards read\, you&#39\;ll love Aura Photos!&nbsp\;</div>\n\n<div>&nbsp\;</div>\n\n<div>Aura Photos are like a little glimpse into the energy you are carrying in this moment &mdash\; the colors\, emotions\, dreams\, and magic moving through your spirit. Your aura is an emanation of your energy centers and can shift depending on what is happening in your life\, your emotions\, stress levels\, healing\, and growth. Each photo captures your unique aura and comes with insight into what your energy may be calling in\, releasing\, or ready to awaken. It is part self-discovery\, part healing\, and part pure magic.</div>\n\n<div>&nbsp\;</div>\n\n<div>You&rsquo\;ll receive:</div>\n\n<div>&bull\; A digital aura photograph</div>\n\n<div>&bull\; A Polaroid aura portrait</div>\n\n<div>&bull\; A brief intuitive interpretation of your colors with an Oracle Card pull for additional guidance.</div>\n\n<div>\n<div>&nbsp\;</div>\n</div>\n
LOCATION:Bobbles & Lace Ogunquit 20 Shore Road\, 1A\, Ogunquit\, ME 03907
UID:e.882.58372
SEQUENCE:3
DTSTAMP:20260422T114400Z
URL:https://chamber.ogunquit.org/events/details/aura-photo-reading-58372
END:VEVENT

END:VCALENDAR
