BEGIN:VCALENDAR
VERSION:2.0
PRODID:-//ChamberMaster//Event Calendar 2.0//EN
METHOD:PUBLISH
X-PUBLISHED-TTL:P3D
REFRESH-INTERVAL:P3D
CALSCALE:GREGORIAN
BEGIN:VEVENT
DTSTART:20170516T163000Z
DTEND:20170516T173000Z
X-MICROSOFT-CDO-ALLDAYEVENT:FALSE
SUMMARY:Avoiding The Devastating Costs of Long Term Care
DESCRIPTION:Lunch & Learn on the issues concerning the cost and availability of Long Term Care funding and the chances of needing it.
X-ALT-DESC;FMTTYPE=text/html:Lunch &amp\; Learn on the issues concerning the cost and availability of Long Term Care funding and the chances of needing it.
LOCATION:Lower level at Ogunquit Chamber of Commerce building
UID:e.882.1661
SEQUENCE:3
DTSTAMP:20260419T232613Z
URL:https://chamber.ogunquit.org/events/details/avoiding-the-devastating-costs-of-long-term-care-1661
END:VEVENT

END:VCALENDAR
