BEGIN:VCALENDAR
VERSION:2.0
PRODID:-//ChamberMaster//Event Calendar 2.0//EN
METHOD:PUBLISH
X-PUBLISHED-TTL:P3D
REFRESH-INTERVAL:P3D
CALSCALE:GREGORIAN
BEGIN:VEVENT
DTSTART:20260622T000000Z
DTEND:20260622T013000Z
X-MICROSOFT-CDO-ALLDAYEVENT:FALSE
SUMMARY:Bob Marley Comedy Show
DESCRIPTION:High-energy stand-up comedy from Bob Marley\, known for his sharp observational humor\, national TV appearances\, and ability to connect with audiences of all ages. This show takes place in the intimate Upstairs Listening Room.
X-ALT-DESC;FMTTYPE=text/html:High-energy stand-up comedy from Bob Marley\, known for his sharp observational humor\, national TV appearances\, and ability to connect with audiences of all ages. This show takes place in the intimate Upstairs Listening Room.
LOCATION:Venue Address: 92 Bourne Ln\, Ogunquit\, ME 03907 Jonathan's Ogunquit\, Upstairs Listening Room
UID:e.882.58330
SEQUENCE:3
DTSTAMP:20260422T132129Z
URL:https://chamber.ogunquit.org/events/details/bob-marley-comedy-show-06-21-2026-58330
END:VEVENT

END:VCALENDAR
