BEGIN:VCALENDAR
VERSION:2.0
PRODID:-//ChamberMaster//Event Calendar 2.0//EN
METHOD:PUBLISH
X-PUBLISHED-TTL:P3D
REFRESH-INTERVAL:P3D
CALSCALE:GREGORIAN
BEGIN:VEVENT
DTSTART:20190707T200000Z
DTEND:20190707T213000Z
X-MICROSOFT-CDO-ALLDAYEVENT:FALSE
SUMMARY:Book Signing with Ed Shankman author of I Met a Moose in Maine One Day
DESCRIPTION:We are excited to have the talented Ed Shankman\, author of I MET A MOOSE IN MAINE ONE DAY\, WHEN A LOBSTER BUYS A BATHROBE and more whimsy books visit the store for his annual Book Signing on July 7th 4-5:30. Ed will be signing books and answering your questions.If you can't make it\, give the store a call to pre-order. We will be happy to help you have your book personalized! 207-646-7728
X-ALT-DESC;FMTTYPE=text/html:We are excited to have the talented Ed Shankman\, author of I MET A MOOSE IN MAINE ONE DAY\, WHEN A LOBSTER BUYS A BATHROBE and more whimsy books visit the store for his annual Book Signing on July 7th 4-5:30. Ed will be signing books and answering your questions.If you can&#39\;t make it\, give the store a call to pre-order. We will be happy to help you have your book personalized! 207-646-7728
LOCATION:Village Toy Funatic 232 Main Street Ogunquit ME 03907 207-646-7728
UID:e.882.11133
SEQUENCE:3
DTSTAMP:20260419T144002Z
URL:https://chamber.ogunquit.org/events/details/book-signing-with-ed-shankman-author-of-i-met-a-moose-in-maine-one-day-11133
END:VEVENT

END:VCALENDAR
