BEGIN:VCALENDAR
VERSION:2.0
PRODID:-//ChamberMaster//Event Calendar 2.0//EN
METHOD:PUBLISH
X-PUBLISHED-TTL:P3D
REFRESH-INTERVAL:P3D
CALSCALE:GREGORIAN
BEGIN:VEVENT
DTSTART:20160828T193000Z
DTEND:20160828T230000Z
X-MICROSOFT-CDO-ALLDAYEVENT:FALSE
SUMMARY:• By the Sea\, a Summer Event\, Under the Tent
DESCRIPTION:What -  Tour 4 gardens along the Marginal Way\n\n                        Plein-Air Artists will sell their "wet paintings" done in the preceding 24 hours of the Marginal Way\n\n                        Silent Auction paintings from 5 Ogunquit galleries\n\n                        Silent Auction items\n\n                        Wine Ring Toss \n\n               Who - Marginal Way Preservation Fund\n\n                        http://marginalwayfund.org/
X-ALT-DESC;FMTTYPE=text/html:<br />\n&nbsp\; &nbsp\; &nbsp\; &nbsp\; &nbsp\; &nbsp\; <strong>What </strong>-&nbsp\;&nbsp\;Tour 4 gardens along the Marginal Way<br />\n&nbsp\;&nbsp\;&nbsp\;&nbsp\;&nbsp\;&nbsp\;&nbsp\;&nbsp\;&nbsp\;&nbsp\;&nbsp\;&nbsp\;&nbsp\;&nbsp\;&nbsp\;&nbsp\;&nbsp\;&nbsp\;&nbsp\;&nbsp\;&nbsp\;&nbsp\;&nbsp\;&nbsp\;Plein-Air Artists will sell their &ldquo\;wet paintings&rdquo\; done in the preceding 24 hours of the Marginal Way<br />\n&nbsp\; &nbsp\; &nbsp\; &nbsp\; &nbsp\; &nbsp\; &nbsp\; &nbsp\; &nbsp\; &nbsp\; &nbsp\; &nbsp\; Silent Auction paintings from 5 Ogunquit galleries<br />\n&nbsp\; &nbsp\; &nbsp\; &nbsp\; &nbsp\; &nbsp\; &nbsp\; &nbsp\; &nbsp\; &nbsp\; &nbsp\; &nbsp\; Silent Auction items<br />\n&nbsp\; &nbsp\; &nbsp\; &nbsp\; &nbsp\; &nbsp\; &nbsp\; &nbsp\; &nbsp\; &nbsp\; &nbsp\; &nbsp\; Wine Ring Toss&nbsp\;<br />\n&nbsp\; &nbsp\; &nbsp\; &nbsp\; &nbsp\; &nbsp\; &nbsp\; &nbsp\;<strong>Who </strong>- Marginal Way Preservation Fund<br />\n&nbsp\; &nbsp\; &nbsp\; &nbsp\; &nbsp\; &nbsp\; &nbsp\; &nbsp\; &nbsp\; &nbsp\;&nbsp\; &nbsp\; &nbsp\;<a href="http://marginalwayfund.org/" target="_blank">http://marginalwayfund.org/</a>
LOCATION:Under the tent at the Beachmere Inn
UID:e.882.93
SEQUENCE:3
DTSTAMP:20260425T130402Z
URL:https://chamber.ogunquit.org/events/details/by-the-sea-a-summer-event-under-the-tent-08-28-2016-93
END:VEVENT

END:VCALENDAR
