BEGIN:VCALENDAR
VERSION:2.0
PRODID:-//ChamberMaster//Event Calendar 2.0//EN
METHOD:PUBLISH
X-PUBLISHED-TTL:P3D
REFRESH-INTERVAL:P3D
CALSCALE:GREGORIAN
BEGIN:VEVENT
DTSTART:20260530T233000Z
DTEND:20260531T010000Z
X-MICROSOFT-CDO-ALLDAYEVENT:FALSE
SUMMARY:Captain Jack & The Strangers – A Tribute to Billy Joel
DESCRIPTION:A high-energy\, full-band tribute to Billy Joel featuring powerhouse vocals\, piano-driven arrangements\, and a setlist spanning the Piano Man's biggest hits and deep-cut fan favorites. Captain Jack & The Strangers deliver an authentic\, nostalgic concert experience with seasoned musicians and a dynamic frontman.
X-ALT-DESC;FMTTYPE=text/html:A high-energy\, full-band tribute to Billy Joel featuring powerhouse vocals\, piano-driven arrangements\, and a setlist spanning the Piano Man&rsquo\;s biggest hits and deep-cut fan favorites. Captain Jack &amp\; The Strangers deliver an authentic\, nostalgic concert experience with seasoned musicians and a dynamic frontman.
LOCATION:Jonathan's Ogunquit\, Ogunquit\, ME Venue Address: 92 Bourne Ln\, Ogunquit\, ME 03907
UID:e.882.58338
SEQUENCE:3
DTSTAMP:20260422T114408Z
URL:https://chamber.ogunquit.org/events/details/captain-jack-the-strangers-a-tribute-to-billy-joel-58338
END:VEVENT

END:VCALENDAR
