BEGIN:VCALENDAR
VERSION:2.0
PRODID:-//ChamberMaster//Event Calendar 2.0//EN
METHOD:PUBLISH
X-PUBLISHED-TTL:P3D
REFRESH-INTERVAL:P3D
CALSCALE:GREGORIAN
BEGIN:VEVENT
DTSTART:20260530T003000Z
DTEND:20260530T020000Z
X-MICROSOFT-CDO-ALLDAYEVENT:FALSE
SUMMARY:Carla Cooke – The Sam Cooke Experience
DESCRIPTION:Carla Cooke\, daughter of the legendary Sam Cooke\, delivers a soulful tribute blending gospel\, R&B\, soul\, and contemporary influences. Her warm stage presence\, powerful vocals\, and deep connection to her father's musical legacy create an emotional\, timeless performance celebrating Sam Cooke's iconic catalog.
X-ALT-DESC;FMTTYPE=text/html:Carla Cooke\, daughter of the legendary Sam Cooke\, delivers a soulful tribute blending gospel\, R&amp\;B\, soul\, and contemporary influences. Her warm stage presence\, powerful vocals\, and deep connection to her father&rsquo\;s musical legacy create an emotional\, timeless performance celebrating Sam Cooke&rsquo\;s iconic catalog.
LOCATION:Jonathan's Ogunquit\, Ogunquit\, ME Venue Address: 92 Bourne Ln\, Ogunquit\, ME 03907
UID:e.882.58337
SEQUENCE:3
DTSTAMP:20260422T114358Z
URL:https://chamber.ogunquit.org/events/details/carla-cooke-the-sam-cooke-experience-58337
END:VEVENT

END:VCALENDAR
