BEGIN:VCALENDAR
VERSION:2.0
PRODID:-//ChamberMaster//Event Calendar 2.0//EN
METHOD:PUBLISH
X-PUBLISHED-TTL:P3D
REFRESH-INTERVAL:P3D
CALSCALE:GREGORIAN
BEGIN:VEVENT
DTSTART:20260503T230000Z
DTEND:20260504T003000Z
X-MICROSOFT-CDO-ALLDAYEVENT:FALSE
SUMMARY:Christine Lavin\, Kenny White & Kevin Barry
DESCRIPTION:An evening of contemporary folk featuring celebrated singer-songwriters Christine Lavin and Kenny White\, joined by guitarist Kevin Barry. Expect sharp wit\, storytelling\, humor\, expressive piano work\, and standout musicianship from artists who have shaped the modern folk scene for decades.
X-ALT-DESC;FMTTYPE=text/html:An evening of contemporary folk featuring celebrated singer-songwriters Christine Lavin and Kenny White\, joined by guitarist Kevin Barry. Expect sharp wit\, storytelling\, humor\, expressive piano work\, and standout musicianship from artists who have shaped the modern folk scene for decades.
LOCATION:Venue Address: 92 Bourne Ln\, Ogunquit\, ME 03907
UID:e.882.58331
SEQUENCE:3
DTSTAMP:20260422T114409Z
URL:https://chamber.ogunquit.org/events/details/christine-lavin-kenny-white-kevin-barry-58331
END:VEVENT

END:VCALENDAR
