BEGIN:VCALENDAR
VERSION:2.0
PRODID:-//ChamberMaster//Event Calendar 2.0//EN
METHOD:PUBLISH
X-PUBLISHED-TTL:P3D
REFRESH-INTERVAL:P3D
CALSCALE:GREGORIAN
BEGIN:VEVENT
DTSTART;VALUE=DATE:20161212
DTEND;VALUE=DATE:20161213
TRANSP:TRANSPARENT
X-MICROSOFT-CDO-ALLDAYEVENT:TRUE
SUMMARY:Christmas With Tim Janis
DESCRIPTION:Tim Janis and special guests come together for an inspiring evening of music celebrating the Christmas Season.
X-ALT-DESC;FMTTYPE=text/html:Tim Janis and special guests come together for an inspiring evening of music celebrating the Christmas Season.
LOCATION:First Parish Church York\, ME
UID:e.882.1612
SEQUENCE:3
DTSTAMP:20260424T095358Z
URL:https://chamber.ogunquit.org/events/details/christmas-with-tim-janis-1612
END:VEVENT

END:VCALENDAR
