BEGIN:VCALENDAR
VERSION:2.0
PRODID:-//ChamberMaster//Event Calendar 2.0//EN
METHOD:PUBLISH
X-PUBLISHED-TTL:P3D
REFRESH-INTERVAL:P3D
CALSCALE:GREGORIAN
BEGIN:VEVENT
DTSTART:20260727T000000Z
DTEND:20260727T013000Z
X-MICROSOFT-CDO-ALLDAYEVENT:FALSE
SUMMARY:Comedian Tom Cotter
DESCRIPTION:Tom Cotter\, the breakout star from America's Got Talent\, brings his rapid-fire punchlines\, sharp wit\, and high-energy comedic style to Jonathan's Ogunquit. Known for his relentless pacing and clever observational humor\, Cotter delivers a nonstop laugh-packed show that keeps audiences hooked from start to finish.
X-ALT-DESC;FMTTYPE=text/html:Tom Cotter\, the breakout star from America&rsquo\;s Got Talent\, brings his rapid-fire punchlines\, sharp wit\, and high-energy comedic style to Jonathan&rsquo\;s Ogunquit. Known for his relentless pacing and clever observational humor\, Cotter delivers a nonstop laugh-packed show that keeps audiences hooked from start to finish.
LOCATION:Jonathan's Ogunquit 92 Bourne Ln\, Ogunquit\, ME 03907
UID:e.882.58359
SEQUENCE:3
DTSTAMP:20260422T124441Z
URL:https://chamber.ogunquit.org/events/details/comedian-tom-cotter-07-26-2026-58359
END:VEVENT

END:VCALENDAR
