BEGIN:VCALENDAR
VERSION:2.0
PRODID:-//ChamberMaster//Event Calendar 2.0//EN
METHOD:PUBLISH
X-PUBLISHED-TTL:P3D
REFRESH-INTERVAL:P3D
CALSCALE:GREGORIAN
BEGIN:VEVENT
DTSTART:20260606T233000Z
DTEND:20260607T010000Z
X-MICROSOFT-CDO-ALLDAYEVENT:FALSE
SUMMARY:Comedy with Greg Fitzsimmons
DESCRIPTION:Emmy-winning comedian Greg Fitzsimmons brings sharp wit\, fast pacing\, and brutally funny storytelling to the Jonathan's Ogunquit stage. Known for his appearances on Conan\, Jimmy Kimmel\, Howard Stern\, and his hit podcast FitzDog Radio\, Greg delivers a high-energy\, smart\, and fearless stand-up set.
X-ALT-DESC;FMTTYPE=text/html:Emmy-winning comedian Greg Fitzsimmons brings sharp wit\, fast pacing\, and brutally funny storytelling to the Jonathan&rsquo\;s Ogunquit stage. Known for his appearances on Conan\, Jimmy Kimmel\, Howard Stern\, and his hit podcast FitzDog Radio\, Greg delivers a high-energy\, smart\, and fearless stand-up set.
LOCATION:Jonathan's Ogunquit 92 Bourne Ln\, Ogunquit\, ME 03907
UID:e.882.58344
SEQUENCE:3
DTSTAMP:20260422T132132Z
URL:https://chamber.ogunquit.org/events/details/comedy-with-greg-fitzsimmons-58344
END:VEVENT

END:VCALENDAR
