BEGIN:VCALENDAR
VERSION:2.0
PRODID:-//ChamberMaster//Event Calendar 2.0//EN
METHOD:PUBLISH
X-PUBLISHED-TTL:P3D
REFRESH-INTERVAL:P3D
CALSCALE:GREGORIAN
BEGIN:VEVENT
DTSTART:20260920T000000Z
DTEND:20260920T013000Z
X-MICROSOFT-CDO-ALLDAYEVENT:FALSE
SUMMARY:Comedy with Josh Blue
DESCRIPTION:Josh Blue\, winner of Last Comic Standing and fan favorite from America's Got Talent\, brings his sharp wit\, fearless storytelling\, and unmatched improvisational style to Jonathan's Ogunquit. Known for his ability to turn personal experiences into brilliantly funny\, stereotype-breaking comedy\, Josh delivers a fresh\, unpredictable\, and laugh-packed show every time he hits the stage.
X-ALT-DESC;FMTTYPE=text/html:Josh Blue\, winner of Last Comic Standing and fan favorite from America&rsquo\;s Got Talent\, brings his sharp wit\, fearless storytelling\, and unmatched improvisational style to Jonathan&rsquo\;s Ogunquit. Known for his ability to turn personal experiences into brilliantly funny\, stereotype-breaking comedy\, Josh delivers a fresh\, unpredictable\, and laugh-packed show every time he hits the stage.
LOCATION:Jonathan's Ogunquit 92 Bourne Ln\, Ogunquit\, ME 03907
UID:e.882.58367
SEQUENCE:3
DTSTAMP:20260422T094125Z
URL:https://chamber.ogunquit.org/events/details/comedy-with-josh-blue-58367
END:VEVENT

END:VCALENDAR
