BEGIN:VCALENDAR
VERSION:2.0
PRODID:-//ChamberMaster//Event Calendar 2.0//EN
METHOD:PUBLISH
X-PUBLISHED-TTL:P3D
REFRESH-INTERVAL:P3D
CALSCALE:GREGORIAN
BEGIN:VEVENT
DTSTART:20260927T000000Z
DTEND:20260927T013000Z
X-MICROSOFT-CDO-ALLDAYEVENT:FALSE
SUMMARY:Comedy with Kerri Louise
DESCRIPTION:Kerri Louise\, fresh off her Showtime special Funny Women of a Certain Age\, brings her sharp\, fearless\, high-energy comedy to Jonathan's Ogunquit. A finalist on NBC's Last Comic Standing\, Kerri has appeared on Oprah\, Dr. Oz\, Howard Stern\, Comedy Central\, VH1\, and America's Got Talent. Known for her bold storytelling\, quick wit\, and hilarious takes on motherhood\, marriage\, and everyday chaos\, she delivers a fast-paced\, laugh-packed show that keeps audiences hooked.
X-ALT-DESC;FMTTYPE=text/html:Kerri Louise\, fresh off her Showtime special Funny Women of a Certain Age\, brings her sharp\, fearless\, high-energy comedy to Jonathan&rsquo\;s Ogunquit. A finalist on NBC&rsquo\;s Last Comic Standing\, Kerri has appeared on Oprah\, Dr. Oz\, Howard Stern\, Comedy Central\, VH1\, and America&rsquo\;s Got Talent. Known for her bold storytelling\, quick wit\, and hilarious takes on motherhood\, marriage\, and everyday chaos\, she delivers a fast-paced\, laugh-packed show that keeps audiences hooked.
LOCATION:Jonathan's Ogunquit 92 Bourne Ln\, Ogunquit\, ME 03907
UID:e.882.58369
SEQUENCE:3
DTSTAMP:20260422T094123Z
URL:https://chamber.ogunquit.org/events/details/comedy-with-kerri-louise-58369
END:VEVENT

END:VCALENDAR
