BEGIN:VCALENDAR
VERSION:2.0
PRODID:-//ChamberMaster//Event Calendar 2.0//EN
METHOD:PUBLISH
X-PUBLISHED-TTL:P3D
REFRESH-INTERVAL:P3D
CALSCALE:GREGORIAN
BEGIN:VEVENT
DTSTART:20161211T210000Z
DTEND:20161211T220000Z
X-MICROSOFT-CDO-ALLDAYEVENT:FALSE
SUMMARY:Country Heat Class
DESCRIPTION:If you can walk\, you can do this program and lose weight too!  YES-simple and fun\, no burps or jumping jacks\, just easy to follow moves set to popular Country music.\n\n \n\nSpecial Offer!!!\n\nStart with a friend and receive a two-for-one deal for the first month.\n\nThis deal is available now through December 31.\n\nFMI information contact Judy at stark.judith7@gmail.com
X-ALT-DESC;FMTTYPE=text/html:If you can walk\, you can do this program and lose weight too! &nbsp\;YES-simple and fun\, no burps or jumping jacks\, just easy to follow moves set to popular Country music.<br />\n&nbsp\;<br />\nSpecial Offer!!!<br />\nStart with a friend and receive a <strong>two-for-one deal</strong>&nbsp\;for the first month.<br />\nThis deal is available now through December 31.<br />\nFMI information contact Judy at <a href="mailto:stark.judith7@gmail.com">stark.judith7@gmail.com</a>
LOCATION:
UID:e.882.1607
SEQUENCE:3
DTSTAMP:20260423T232040Z
URL:https://chamber.ogunquit.org/events/details/country-heat-class-1607
END:VEVENT

END:VCALENDAR
