BEGIN:VCALENDAR
VERSION:2.0
PRODID:-//ChamberMaster//Event Calendar 2.0//EN
METHOD:PUBLISH
X-PUBLISHED-TTL:P3D
REFRESH-INTERVAL:P3D
CALSCALE:GREGORIAN
BEGIN:VEVENT
DTSTART:20260425T000000Z
DTEND:20260425T013000Z
X-MICROSOFT-CDO-ALLDAYEVENT:FALSE
SUMMARY:Dueling Pianos – Sing-along
DESCRIPTION:It has been said that a dueling piano show is quite literally 'the most fun one can have with one's clothes On!' I have to agree! It is a massive 'to the top of your lungs' sing along with all your friends while drinking to excess! This event held inside in our Upstairs Listening Room. Buy tickets online. Jonathan's Ogunquit ticket reservation system. Book your tickets instantly.
X-ALT-DESC;FMTTYPE=text/html:It has been said that a dueling piano show is quite literally &lsquo\;the most fun one can have with one&rsquo\;s clothes On!&rsquo\; I have to agree! It is a massive &lsquo\;to the top of your lungs&rsquo\; sing along with all your friends while drinking to excess! This event held inside in our Upstairs Listening Room. Buy tickets online. Jonathan&rsquo\;s Ogunquit ticket reservation system. Book your tickets instantly.
LOCATION:Venue Address: 92 Bourne Ln\, Ogunquit\, ME 03907
UID:e.882.58327
SEQUENCE:3
DTSTAMP:20260422T101105Z
URL:https://chamber.ogunquit.org/events/details/dueling-pianos-sing-along-58327
END:VEVENT

END:VCALENDAR
