BEGIN:VCALENDAR
VERSION:2.0
PRODID:-//ChamberMaster//Event Calendar 2.0//EN
METHOD:PUBLISH
X-PUBLISHED-TTL:P3D
REFRESH-INTERVAL:P3D
CALSCALE:GREGORIAN
BEGIN:VEVENT
DTSTART:20260913T000000Z
DTEND:20260913T013000Z
X-MICROSOFT-CDO-ALLDAYEVENT:FALSE
SUMMARY:Elvis Tribute Show – Starring Robert Black
DESCRIPTION:Award-winning Elvis tribute artist Robert Black delivers an electrifying\, authentic performance capturing the charisma\, voice\, and iconic stage presence of Elvis Presley. With spot-on mannerisms\, powerful vocals\, and era-accurate costumes\, Black recreates the magic of Elvis's live shows in a high-energy\, crowd-pleasing tribute that fans of all ages love.
X-ALT-DESC;FMTTYPE=text/html:Award-winning Elvis tribute artist Robert Black delivers an electrifying\, authentic performance capturing the charisma\, voice\, and iconic stage presence of Elvis Presley. With spot-on mannerisms\, powerful vocals\, and era-accurate costumes\, Black recreates the magic of Elvis&rsquo\;s live shows in a high-energy\, crowd-pleasing tribute that fans of all ages love.
LOCATION:Jonathan's Ogunquit 92 Bourne Ln\, Ogunquit\, ME 03907
UID:e.882.58366
SEQUENCE:3
DTSTAMP:20260422T094123Z
URL:https://chamber.ogunquit.org/events/details/elvis-tribute-show-starring-robert-black-58366
END:VEVENT

END:VCALENDAR
