BEGIN:VCALENDAR
VERSION:2.0
PRODID:-//ChamberMaster//Event Calendar 2.0//EN
METHOD:PUBLISH
X-PUBLISHED-TTL:P3D
REFRESH-INTERVAL:P3D
CALSCALE:GREGORIAN
BEGIN:VEVENT
DTSTART:20180607T223000Z
DTEND:20180608T013000Z
X-MICROSOFT-CDO-ALLDAYEVENT:FALSE
SUMMARY:Five-0 Shore Road Restaurant's 5th Annual Land vs. Sea Wine Dinner
DESCRIPTION:Our June wine dinner will be held on Thursday June 7th @ 6:30pm. Chef James Walter will create dueling menus featuring only the finest local meats\, fish\, seafood\, and vegetables. Which will you choose? Reservations recommended. (207) 646-5001
X-ALT-DESC;FMTTYPE=text/html:<span style='display: inline !important\; float: none\; background-color: transparent\; color: rgb(51\, 51\, 51)\; font-family: "Open Sans"\,sans-serif\; font-size: 14px\; font-size-adjust: none\; font-stretch: normal\; font-style: normal\; font-variant: normal\; font-weight: 400\; letter-spacing: normal\; line-height: 24.5px\; orphans: 2\; text-align: left\; text-decoration: none\; text-indent: 0px\; text-transform: none\; -webkit-text-stroke-width: 0px\; white-space: normal\; word-spacing: 0px\;'>Our June wine dinner will be held on Thursday June 7th @ 6:30pm.&nbsp\;Chef James Walter will create dueling menus featuring only the finest local meats\, fish\, seafood\, and vegetables. Which will you choose? Reservations recommended. (207) 646-5001&nbsp\;</span>
LOCATION:50 Shore Road Ogunquit\, ME 03907
UID:e.882.5116
SEQUENCE:3
DTSTAMP:20260422T113529Z
URL:https://chamber.ogunquit.org/events/details/five-0-shore-road-restaurant-s-5th-annual-land-vs-sea-wine-dinner-5116
END:VEVENT

END:VCALENDAR
