BEGIN:VCALENDAR
VERSION:2.0
PRODID:-//ChamberMaster//Event Calendar 2.0//EN
METHOD:PUBLISH
X-PUBLISHED-TTL:P3D
REFRESH-INTERVAL:P3D
CALSCALE:GREGORIAN
BEGIN:VEVENT
DTSTART:20180831T170000Z
DTEND:20180831T183000Z
X-MICROSOFT-CDO-ALLDAYEVENT:FALSE
SUMMARY:Flintknapping: The Art of Stone Tool Production
DESCRIPTION:Learn how Native Americans produced and employed stone and bone tools and how their techniques evolved over time. Participants will try their hand at this ancient technique for producing tools that were necessary for survival in Maine's diverse environment. Presented by Chris Sockalexis\, the Penobscot Nation Tribal Historic Preservation Officer.
X-ALT-DESC;FMTTYPE=text/html:<span style="font-family:calibri\,sans-serif"><span style="font-size:12.0pt">Learn how Native Americans produced and employed stone and bone tools and how their techniques evolved over time. Participants will try their hand at this ancient technique for producing tools that were necessary for survival in Maine&rsquo\;s diverse environment. Presented by Chris Sockalexis\, the Penobscot Nation Tribal Historic Preservation Officer.&nbsp\;</span></span>
LOCATION:Wells Reserve at Laudholm 342 Laudholm Farm Rd Wells\, ME
UID:e.882.7064
SEQUENCE:3
DTSTAMP:20260421T192421Z
URL:https://chamber.ogunquit.org/events/details/flintknapping-the-art-of-stone-tool-production-7064
END:VEVENT

END:VCALENDAR
