BEGIN:VCALENDAR
VERSION:2.0
PRODID:-//ChamberMaster//Event Calendar 2.0//EN
METHOD:PUBLISH
X-PUBLISHED-TTL:P3D
REFRESH-INTERVAL:P3D
CALSCALE:GREGORIAN
BEGIN:VEVENT
DTSTART:20161008T180000Z
DTEND:20161008T210000Z
X-MICROSOFT-CDO-ALLDAYEVENT:FALSE
SUMMARY:Free Maine Wine & Cider Tasting
DESCRIPTION:Join us on Columbus Day weekend and sample some great Maine made wines from Breakwater Vinyards located in Owls Head\, ME and some ciders from Ricker's located in Turner Maine. Both great Maine products for you to enjoy or bring home for gifts!
X-ALT-DESC;FMTTYPE=text/html:<div>Join us on Columbus Day weekend and sample some great Maine made wines from Breakwater Vinyards&nbsp\;located in Owls Head\, ME and some ciders from Ricker&#39\;s located in Turner Maine.&nbsp\;Both great Maine products for you to enjoy or bring home for gifts!</div>\n
LOCATION:Perkins & Perkins
UID:e.882.1541
SEQUENCE:3
DTSTAMP:20260420T111608Z
URL:https://chamber.ogunquit.org/events/details/free-maine-wine-cider-tasting-1541
END:VEVENT

END:VCALENDAR
