BEGIN:VCALENDAR
VERSION:2.0
PRODID:-//ChamberMaster//Event Calendar 2.0//EN
METHOD:PUBLISH
X-PUBLISHED-TTL:P3D
REFRESH-INTERVAL:P3D
CALSCALE:GREGORIAN
BEGIN:VEVENT
DTSTART:20180625T220000Z
DTEND:20180626T000000Z
X-MICROSOFT-CDO-ALLDAYEVENT:FALSE
SUMMARY:FREE Movie Night at The Leavitt Theatre
DESCRIPTION:Join Ogunquit Parks and Recreation Department as they host FREE Movie Night at the Leavitt Theater\, Monday\, June 25th.\n\nMovie TBD - visit there Facebook page to cast your vote!\n\n\n\nhttps://www.facebook.com/OgunquitParksandRec
X-ALT-DESC;FMTTYPE=text/html:Join Ogunquit Parks and Recreation Department as they host FREE Movie Night at the Leavitt Theater\, Monday\, June 25th.<br />\nMovie TBD - visit there Facebook page to cast your vote!<br />\n<br />\nhttps://www.facebook.com/OgunquitParksandRec<br />\n&nbsp\;
LOCATION:The Leavitt Theatre 259 Main Street Ogunquit\, Maine 03907
UID:e.882.5128
SEQUENCE:3
DTSTAMP:20260422T113109Z
URL:https://chamber.ogunquit.org/events/details/free-movie-night-at-the-leavitt-theatre-5128
END:VEVENT

END:VCALENDAR
