BEGIN:VCALENDAR
VERSION:2.0
PRODID:-//ChamberMaster//Event Calendar 2.0//EN
METHOD:PUBLISH
X-PUBLISHED-TTL:P3D
REFRESH-INTERVAL:P3D
CALSCALE:GREGORIAN
BEGIN:VEVENT
DTSTART:20160917T180000Z
DTEND:20160917T210000Z
X-MICROSOFT-CDO-ALLDAYEVENT:FALSE
SUMMARY:Free Wine Tasting
DESCRIPTION:Join us Saturday September 17th as we sample some great Value Wines from Chile. We will be tasting a Sauvignon Blanc\, Chardonnay-Viognier\, Pinot Noir\, Cabernet\, and a Malbec-Petit Verdot.
X-ALT-DESC;FMTTYPE=text/html:<div>Join us Saturday September 17th as we sample some great Value Wines from Chile.&nbsp\;We will be tasting a Sauvignon Blanc\, Chardonnay-Viognier\, Pinot Noir\, Cabernet\,&nbsp\;and a Malbec-Petit Verdot.</div>\n
LOCATION:Perkins & Perkins
UID:e.882.1540
SEQUENCE:3
DTSTAMP:20260424T061548Z
URL:https://chamber.ogunquit.org/events/details/free-wine-tasting-1540
END:VEVENT

END:VCALENDAR
