BEGIN:VCALENDAR
VERSION:2.0
PRODID:-//ChamberMaster//Event Calendar 2.0//EN
METHOD:PUBLISH
X-PUBLISHED-TTL:P3D
REFRESH-INTERVAL:P3D
CALSCALE:GREGORIAN
BEGIN:VEVENT
DTSTART:20260719T230000Z
DTEND:20260720T013000Z
X-MICROSOFT-CDO-ALLDAYEVENT:FALSE
SUMMARY:Howie Day
DESCRIPTION:Singer-songwriter Howie Day brings his signature blend of heartfelt lyrics\, soaring vocals\, and dynamic live looping to Jonathan's Ogunquit. Known for hits like "Collide" and "She Says\," Day delivers an intimate\, emotionally rich performance filled with acoustic warmth\, melodic depth\, and the improvisational energy that has defined his live shows for years.
X-ALT-DESC;FMTTYPE=text/html:Singer-songwriter Howie Day brings his signature blend of heartfelt lyrics\, soaring vocals\, and dynamic live looping to Jonathan&rsquo\;s Ogunquit. Known for hits like &ldquo\;Collide&rdquo\; and &ldquo\;She Says\,&rdquo\; Day delivers an intimate\, emotionally rich performance filled with acoustic warmth\, melodic depth\, and the improvisational energy that has defined his live shows for years.
LOCATION:Jonathan's Ogunquit 92 Bourne Ln\, Ogunquit\, ME 03907
UID:e.882.58356
SEQUENCE:3
DTSTAMP:20260422T124530Z
URL:https://chamber.ogunquit.org/events/details/howie-day-07-19-2026-58356
END:VEVENT

END:VCALENDAR
