BEGIN:VCALENDAR
VERSION:2.0
PRODID:-//ChamberMaster//Event Calendar 2.0//EN
METHOD:PUBLISH
X-PUBLISHED-TTL:P3D
REFRESH-INTERVAL:P3D
CALSCALE:GREGORIAN
BEGIN:VEVENT
DTSTART:20170617T180000Z
DTEND:20170617T210000Z
X-MICROSOFT-CDO-ALLDAYEVENT:FALSE
SUMMARY:International Day of Surfing: Beach Clean-up & FREE lessons
DESCRIPTION:June 17th: International Surfing Day! Beach Clean-up and SUP lessons Hosted by Surfrider Foundation- Maine Chapter 2pm-5pm at Footbridge Beach Ogunquit\, ME Look for the Surfider tent at the Footbridge Beach (ocean end of Ocean Street\, Ogunquit) for this super fun event. Enjoy a day at the beach with friends and family! Surfrider will be hosting a beach clean-up and free standup paddleboard and surf lessons. Volunteers and Volunteer work day companies encouraged to reach out! Volunteers needed for set-up\, breakdown and helping connect participants to our mission work and beach cleanup activity. There's plenty to do and we'd love your help! Raffle! One lucky volunteer will receive a $100 gift certificate.
X-ALT-DESC;FMTTYPE=text/html:June 17th: International Surfing Day! Beach Clean-up and SUP lessons Hosted by Surfrider Foundation- Maine Chapter 2pm-5pm at Footbridge Beach Ogunquit\, ME Look for the Surfider tent at the Footbridge Beach (ocean end of Ocean Street\, Ogunquit) for this super fun event. Enjoy a day at the beach with friends and family! Surfrider will be hosting a beach clean-up and free standup paddleboard and surf lessons.&nbsp\;Volunteers and Volunteer work day companies encouraged to reach out! Volunteers needed for set-up\, breakdown and helping connect participants to our mission work and beach cleanup activity. There&rsquo\;s plenty to do and we&rsquo\;d love your help! Raffle! One lucky volunteer will receive a $100 gift certificate.
LOCATION:Footbridge Beach
UID:e.882.1689
SEQUENCE:3
DTSTAMP:20260424T122323Z
URL:https://chamber.ogunquit.org/events/details/international-day-of-surfing-beach-clean-up-free-lessons-1689
END:VEVENT

END:VCALENDAR
