BEGIN:VCALENDAR
VERSION:2.0
PRODID:-//ChamberMaster//Event Calendar 2.0//EN
METHOD:PUBLISH
X-PUBLISHED-TTL:P3D
REFRESH-INTERVAL:P3D
CALSCALE:GREGORIAN
BEGIN:VEVENT
DTSTART:20190721T233000Z
DTEND:20190722T003000Z
X-MICROSOFT-CDO-ALLDAYEVENT:FALSE
SUMMARY:Jason Antone - Live in Concert
DESCRIPTION:3 Time Billboard Charting recording artist Jason Antone makes his classical-crossover debut with the show Classique\, featuring the music of Andrea Bocelli\, Josh Groban\, Luis Miguel\, and more.
X-ALT-DESC;FMTTYPE=text/html:<span style="color:rgb(29\, 33\, 41)\; font-family:system-ui\,-apple-system\,blinkmacsystemfont\,.sfnstext-regular\,sans-serif\; font-size:14px">3 Time Billboard Charting recording artist Jason Antone makes his classical-crossover debut with the show Classique\, featuring the music of Andrea Bocelli\, Josh Groban\, Luis Miguel\, and more.</span>
LOCATION:MaineStreet 195 Main Street Ogunquit\, ME
UID:e.882.11130
SEQUENCE:3
DTSTAMP:20260419T134302Z
URL:https://chamber.ogunquit.org/events/details/jason-antone-live-in-concert-11130
END:VEVENT

END:VCALENDAR
