BEGIN:VCALENDAR
VERSION:2.0
PRODID:-//ChamberMaster//Event Calendar 2.0//EN
METHOD:PUBLISH
X-PUBLISHED-TTL:P3D
REFRESH-INTERVAL:P3D
CALSCALE:GREGORIAN
BEGIN:VEVENT
DTSTART:20180930T000000Z
DTEND:20180930T010000Z
X-MICROSOFT-CDO-ALLDAYEVENT:FALSE
SUMMARY:Jason Weber - A Stars Trek
DESCRIPTION:Jason Weber in A Star's Trek\n\n\n\nThe Man\, His Music\, One unforgettable Odyssey
X-ALT-DESC;FMTTYPE=text/html:<span style="color:rgb(29\, 33\, 41)\; font-family:system-ui\,-apple-system\,blinkmacsystemfont\,.sfnstext-regular\,sans-serif\; font-size:14px">Jason Weber in A Star&#39\;s Trek</span><br />\n<br />\n<span style="color:rgb(29\, 33\, 41)\; font-family:system-ui\,-apple-system\,blinkmacsystemfont\,.sfnstext-regular\,sans-serif\; font-size:14px">The Man\, His Music\, One unforgettable Odyssey</span>
LOCATION:MaineStreet 195 Main Street Ogunquit\, Me 03907
UID:e.882.7072
SEQUENCE:3
DTSTAMP:20260421T135759Z
URL:https://chamber.ogunquit.org/events/details/jason-weber-a-stars-trek-09-29-2018-7072
END:VEVENT

END:VCALENDAR
