BEGIN:VCALENDAR
VERSION:2.0
PRODID:-//ChamberMaster//Event Calendar 2.0//EN
METHOD:PUBLISH
X-PUBLISHED-TTL:P3D
REFRESH-INTERVAL:P3D
CALSCALE:GREGORIAN
BEGIN:VEVENT
DTSTART:20260524T233000Z
DTEND:20260525T010000Z
X-MICROSOFT-CDO-ALLDAYEVENT:FALSE
SUMMARY:Jimmy Cash Comedy
DESCRIPTION:Stand-up comedy from Jimmy Cash\, known for his viral janitor-life videos\, sharp observational humor\, and national touring credits. His act blends stories from his 20 years as a school custodian\, fatherhood\, and sobriety\, delivered with high-energy timing and relatable humor.
X-ALT-DESC;FMTTYPE=text/html:Stand-up comedy from Jimmy Cash\, known for his viral janitor-life videos\, sharp observational humor\, and national touring credits. His act blends stories from his 20 years as a school custodian\, fatherhood\, and sobriety\, delivered with high-energy timing and relatable humor.
LOCATION:Venue Address: 92 Bourne Ln\, Ogunquit\, ME 03907
UID:e.882.58336
SEQUENCE:3
DTSTAMP:20260422T114321Z
URL:https://chamber.ogunquit.org/events/details/jimmy-cash-comedy-05-24-2026-58336
END:VEVENT

END:VCALENDAR
