BEGIN:VCALENDAR
VERSION:2.0
PRODID:-//ChamberMaster//Event Calendar 2.0//EN
METHOD:PUBLISH
X-PUBLISHED-TTL:P3D
REFRESH-INTERVAL:P3D
CALSCALE:GREGORIAN
BEGIN:VEVENT
DTSTART:20261219T003000Z
DTEND:20261219T020000Z
X-MICROSOFT-CDO-ALLDAYEVENT:FALSE
SUMMARY:Judy Collins – Farewell Tour
DESCRIPTION:Judy Collins brings her Sweet Judy Blue Eyes Farewell Tour to Jonathan's Ogunquit\, offering audiences one final chance to experience her legendary voice and storytelling live. With a career spanning six decades\, Collins is celebrated for her luminous vocals\, poetic songwriting\, and iconic interpretations of folk and contemporary classics. Her Grammy-winning performances\, including "Both Sides Now" and "Send in the Clowns\," have shaped generations of music lovers. This farewell tour reflects on her extraordinary legacy\, artistic renaissance\, and enduring influence on American music.
X-ALT-DESC;FMTTYPE=text/html:Judy Collins brings her Sweet Judy Blue Eyes Farewell Tour to Jonathan&rsquo\;s Ogunquit\, offering audiences one final chance to experience her legendary voice and storytelling live. With a career spanning six decades\, Collins is celebrated for her luminous vocals\, poetic songwriting\, and iconic interpretations of folk and contemporary classics. Her Grammy-winning performances\, including &ldquo\;Both Sides Now&rdquo\; and &ldquo\;Send in the Clowns\,&rdquo\; have shaped generations of music lovers. This farewell tour reflects on her extraordinary legacy\, artistic renaissance\, and enduring influence on American music.
LOCATION:Jonathan's Ogunquit 92 Bourne Ln\, Ogunquit\, ME 03907
UID:e.882.58370
SEQUENCE:3
DTSTAMP:20260422T044711Z
URL:https://chamber.ogunquit.org/events/details/judy-collins-farewell-tour-58370
END:VEVENT

END:VCALENDAR
