BEGIN:VCALENDAR
VERSION:2.0
PRODID:-//ChamberMaster//Event Calendar 2.0//EN
METHOD:PUBLISH
X-PUBLISHED-TTL:P3D
REFRESH-INTERVAL:P3D
CALSCALE:GREGORIAN
BEGIN:VEVENT
DTSTART:20180923T000000Z
DTEND:20180923T010000Z
X-MICROSOFT-CDO-ALLDAYEVENT:FALSE
SUMMARY:Leathered and Laced A Stevie Nicks Tribute by Niki Luparelli and the Golddiggers
DESCRIPTION:Leathered & Laced\n\n\n\nA Stevie Nicks Tribute starring Niki Luparelli & her band the Crystal Visions!\n\n\n\nAll your favorite Stevie Nicks and a few Fleetwood Mac!\n\nGold Dust Woman\, Landslide\, Stop Draggin' My Heart Around\, Rhiannon\, Edge of Seventeen\, and more!\n\n\n\nHere for one show only!\n\n\n\nBand Lineup\n\nStevie Niki -Vocals\n\nChris Vaillancourt- guitar- vocals\n\nJim Rice- piano-vocals\n\nSophie Potrykus- bass- backup vocals\n\nTim Lee - drums\n\nSusan Catinski-Kaplinski - backup vocals
X-ALT-DESC;FMTTYPE=text/html:<span style="color:rgb(29\, 33\, 41)\; font-family:system-ui\,-apple-system\,blinkmacsystemfont\,.sfnstext-regular\,sans-serif\; font-size:14px">Leathered &amp\; Laced</span><br />\n<br />\n<span style="color:rgb(29\, 33\, 41)\; font-family:system-ui\,-apple-system\,blinkmacsystemfont\,.sfnstext-regular\,sans-serif\; font-size:14px">A Stevie Nicks Tribute starring Niki Luparelli &amp\; her band the Crystal Visions!</span><br />\n<br />\n<span style="color:rgb(29\, 33\, 41)\; font-family:system-ui\,-apple-system\,blinkmacsystemfont\,.sfnstext-regular\,sans-serif\; font-size:14px">All your favorite Stevie Nicks and a few Fleetwood Mac!</span><br />\n<span style="color:rgb(29\, 33\, 41)\; font-family:system-ui\,-apple-system\,blinkmacsystemfont\,.sfnstext-regular\,sans-serif\; font-size:14px">Gold Dust Woman\, Landslide\, Stop Draggin&#39\; My Heart Around\, Rhiannon\, Edge of Seventeen\, and more!</span><br />\n<br />\n<span style="color:rgb(29\, 33\, 41)\; font-family:system-ui\,-apple-system\,blinkmacsystemfont\,.sfnstext-regular\,sans-serif\; font-size:14px">Here for one show only!</span><br />\n<br />\n<span style="color:rgb(29\, 33\, 41)\; font-family:system-ui\,-apple-system\,blinkmacsystemfont\,.sfnstext-regular\,sans-serif\; font-size:14px">Band Lineup</span><br />\n<span style="color:rgb(29\, 33\, 41)\; font-family:system-ui\,-apple-system\,blinkmacsystemfont\,.sfnstext-regular\,sans-serif\; font-size:14px">Stevie Niki -Vocals</span><br />\n<a href="https://www.facebook.com/chris.vaillancourt1" style="color: rgb(54\, 88\, 153)\; cursor: pointer\; text-decoration: none\; font-family: system-ui\, -apple-system\, BlinkMacSystemFont\, &quot\;.SFNSText-Regular&quot\;\, sans-serif\; font-size: 14px\;" target="_blank">Chris Vaillancourt</a><span style="color:rgb(29\, 33\, 41)\; font-family:system-ui\,-apple-system\,blinkmacsystemfont\,.sfnstext-regular\,sans-serif\; font-size:14px">- guitar- vocals</span><br />\n<a href="https://www.facebook.com/jim.rice.33234571" style="color: rgb(54\, 88\, 153)\; cursor: pointer\; text-decoration: none\; font-family: system-ui\, -apple-system\, BlinkMacSystemFont\, &quot\;.SFNSText-Regular&quot\;\, sans-serif\; font-size: 14px\;" target="_blank">Jim Rice</a><span style="color:rgb(29\, 33\, 41)\; font-family:system-ui\,-apple-system\,blinkmacsystemfont\,.sfnstext-regular\,sans-serif\; font-size:14px">- piano-vocals</span><br />\n<a href="https://www.facebook.com/sophie.potrykus" style="color: rgb(54\, 88\, 153)\; cursor: pointer\; text-decoration: none\; font-family: system-ui\, -apple-system\, BlinkMacSystemFont\, &quot\;.SFNSText-Regular&quot\;\, sans-serif\; font-size: 14px\;" target="_blank">Sophie Potrykus</a><span style="color:rgb(29\, 33\, 41)\; font-family:system-ui\,-apple-system\,blinkmacsystemfont\,.sfnstext-regular\,sans-serif\; font-size:14px">- bass- backup vocals</span><br />\n<a href="https://www.facebook.com/timothyalanlee" style="color: rgb(54\, 88\, 153)\; cursor: pointer\; text-decoration: none\; font-family: system-ui\, -apple-system\, BlinkMacSystemFont\, &quot\;.SFNSText-Regular&quot\;\, sans-serif\; font-size: 14px\;" target="_blank">Tim Lee</a><span style="color:rgb(29\, 33\, 41)\; font-family:system-ui\,-apple-system\,blinkmacsystemfont\,.sfnstext-regular\,sans-serif\; font-size:14px">&nbsp\;- drums</span><br />\n<a href="https://www.facebook.com/susan.catinski" style="color: rgb(54\, 88\, 153)\; cursor: pointer\; text-decoration: none\; font-family: system-ui\, -apple-system\, BlinkMacSystemFont\, &quot\;.SFNSText-Regular&quot\;\, sans-serif\; font-size: 14px\;" target="_blank">Susan Catinski-Kaplinski</a><span style="color:rgb(29\, 33\, 41)\; font-family:system-ui\,-apple-system\,blinkmacsystemfont\,.sfnstext-regular\,sans-serif\; font-size:14px">&nbsp\;- backup vocals</span>
LOCATION:MaineStreet Ogunquit 195 Main Street Ogunquit\, Me 03907
UID:e.882.7073
SEQUENCE:3
DTSTAMP:20260421T172942Z
URL:https://chamber.ogunquit.org/events/details/leathered-and-laced-a-stevie-nicks-tribute-by-niki-luparelli-and-the-golddiggers-7073
END:VEVENT

END:VCALENDAR
