BEGIN:VCALENDAR
VERSION:2.0
PRODID:-//ChamberMaster//Event Calendar 2.0//EN
METHOD:PUBLISH
X-PUBLISHED-TTL:P3D
REFRESH-INTERVAL:P3D
CALSCALE:GREGORIAN
BEGIN:VEVENT
DTSTART:20260501T230000Z
DTEND:20260502T020000Z
X-MICROSOFT-CDO-ALLDAYEVENT:FALSE
SUMMARY:Live Music at Nikanos
DESCRIPTION:Join us for dinner 4-9pm and live music from Beau Dalleo 7-10pm
X-ALT-DESC;FMTTYPE=text/html:Join us for dinner 4-9pm and live music from Beau Dalleo 7-10pm
LOCATION:Nikanos
UID:e.882.57819
SEQUENCE:3
DTSTAMP:20260422T114435Z
URL:https://chamber.ogunquit.org/events/details/live-music-at-nikanos-05-01-2026-57819
END:VEVENT

END:VCALENDAR
