BEGIN:VCALENDAR
VERSION:2.0
PRODID:-//ChamberMaster//Event Calendar 2.0//EN
METHOD:PUBLISH
X-PUBLISHED-TTL:P3D
REFRESH-INTERVAL:P3D
CALSCALE:GREGORIAN
BEGIN:VEVENT
DTSTART:20260502T230000Z
DTEND:20260503T020000Z
X-MICROSOFT-CDO-ALLDAYEVENT:FALSE
SUMMARY:Live Music at Nikanos
DESCRIPTION:Join us for dinner 4-9pm and live music from Erik Van Dam 7-10pm!
X-ALT-DESC;FMTTYPE=text/html:Join us for dinner 4-9pm and live music from Erik Van Dam 7-10pm!&nbsp\;
LOCATION:Nikanos
UID:e.882.57821
SEQUENCE:3
DTSTAMP:20260422T114407Z
URL:https://chamber.ogunquit.org/events/details/live-music-at-nikanos-05-02-2026-57821
END:VEVENT

END:VCALENDAR
