BEGIN:VCALENDAR
VERSION:2.0
PRODID:-//ChamberMaster//Event Calendar 2.0//EN
METHOD:PUBLISH
X-PUBLISHED-TTL:P3D
REFRESH-INTERVAL:P3D
CALSCALE:GREGORIAN
BEGIN:VEVENT
DTSTART:20260509T230000Z
DTEND:20260510T020000Z
X-MICROSOFT-CDO-ALLDAYEVENT:FALSE
SUMMARY:Live Music at Nikanos
DESCRIPTION:Join us for Dinner 4-9pm and enjoy live music from Beau Dalleo 7-10pm if you missed him during lunch!
X-ALT-DESC;FMTTYPE=text/html:Join us for Dinner 4-9pm and enjoy live music from Beau Dalleo 7-10pm if you missed him during lunch!&nbsp\;
LOCATION:Nikanos
UID:e.882.57825
SEQUENCE:3
DTSTAMP:20260422T114446Z
URL:https://chamber.ogunquit.org/events/details/live-music-at-nikanos-05-09-2026-57825
END:VEVENT

END:VCALENDAR
