BEGIN:VCALENDAR
VERSION:2.0
PRODID:-//ChamberMaster//Event Calendar 2.0//EN
METHOD:PUBLISH
X-PUBLISHED-TTL:P3D
REFRESH-INTERVAL:P3D
CALSCALE:GREGORIAN
BEGIN:VEVENT
DTSTART:20260510T160000Z
DTEND:20260510T190000Z
X-MICROSOFT-CDO-ALLDAYEVENT:FALSE
SUMMARY:Live Music at Nikanos
DESCRIPTION:Take your mom out for Brunch with us from 10am-3pm with live music from Amanda Dane from 12-3pm.
X-ALT-DESC;FMTTYPE=text/html:Take your mom out for Brunch with us from 10am-3pm with live music from Amanda Dane from 12-3pm.&nbsp\;
LOCATION:Nikanos
UID:e.882.57826
SEQUENCE:3
DTSTAMP:20260422T114434Z
URL:https://chamber.ogunquit.org/events/details/live-music-at-nikanos-05-10-2026-57826
END:VEVENT

END:VCALENDAR
