BEGIN:VCALENDAR
VERSION:2.0
PRODID:-//ChamberMaster//Event Calendar 2.0//EN
METHOD:PUBLISH
X-PUBLISHED-TTL:P3D
REFRESH-INTERVAL:P3D
CALSCALE:GREGORIAN
BEGIN:VEVENT
DTSTART:20260516T170000Z
DTEND:20260516T200000Z
X-MICROSOFT-CDO-ALLDAYEVENT:FALSE
SUMMARY:Live Music at Nikanos
DESCRIPTION:Join us for Lunch on the patio from 12-3pm and live music by Beau Dalleo from 1-4pm.
X-ALT-DESC;FMTTYPE=text/html:Join us for Lunch on the patio from 12-3pm and live music by Beau Dalleo from 1-4pm.&nbsp\;
LOCATION:Nikanos
UID:e.882.57828
SEQUENCE:3
DTSTAMP:20260422T114434Z
URL:https://chamber.ogunquit.org/events/details/live-music-at-nikanos-05-16-2026-57828
END:VEVENT

END:VCALENDAR
