BEGIN:VCALENDAR
VERSION:2.0
PRODID:-//ChamberMaster//Event Calendar 2.0//EN
METHOD:PUBLISH
X-PUBLISHED-TTL:P3D
REFRESH-INTERVAL:P3D
CALSCALE:GREGORIAN
BEGIN:VEVENT
DTSTART:20260529T230000Z
DTEND:20260530T020000Z
X-MICROSOFT-CDO-ALLDAYEVENT:FALSE
SUMMARY:Live Music at Nikanos
DESCRIPTION:Join us for Dinner 4-9pm and live music from Freddie Catalfo from 7-10pm!
X-ALT-DESC;FMTTYPE=text/html:Join us for Dinner 4-9pm and live music from Freddie Catalfo from 7-10pm!&nbsp\;
LOCATION:Nikanos
UID:e.882.57836
SEQUENCE:3
DTSTAMP:20260422T114407Z
URL:https://chamber.ogunquit.org/events/details/live-music-at-nikanos-05-29-2026-57836
END:VEVENT

END:VCALENDAR
