BEGIN:VCALENDAR
VERSION:2.0
PRODID:-//ChamberMaster//Event Calendar 2.0//EN
METHOD:PUBLISH
X-PUBLISHED-TTL:P3D
REFRESH-INTERVAL:P3D
CALSCALE:GREGORIAN
BEGIN:VEVENT
DTSTART:20260531T160000Z
DTEND:20260531T200000Z
X-MICROSOFT-CDO-ALLDAYEVENT:FALSE
SUMMARY:Live Music at Nikanos
DESCRIPTION:Join us for Brunch 10am-3pm and live music by DJ Jodi from 12-4pm
X-ALT-DESC;FMTTYPE=text/html:Join us for Brunch 10am-3pm and live music by DJ Jodi from 12-4pm
LOCATION:Nikanos
UID:e.882.57839
SEQUENCE:3
DTSTAMP:20260422T114433Z
URL:https://chamber.ogunquit.org/events/details/live-music-at-nikanos-05-31-2026-57839
END:VEVENT

END:VCALENDAR
