BEGIN:VCALENDAR
VERSION:2.0
PRODID:-//ChamberMaster//Event Calendar 2.0//EN
METHOD:PUBLISH
X-PUBLISHED-TTL:P3D
REFRESH-INTERVAL:P3D
CALSCALE:GREGORIAN
BEGIN:VEVENT
DTSTART:20260926T230000Z
DTEND:20260927T020000Z
X-MICROSOFT-CDO-ALLDAYEVENT:FALSE
SUMMARY:Live Music at Nikanos
DESCRIPTION:Join us for dinner on our Patio or at the Bar from 4-9pm and enjoy live music from 7-10pm! Visit our website to see who's performing!
X-ALT-DESC;FMTTYPE=text/html:Join us for dinner on our Patio or at the Bar from 4-9pm and enjoy live music from 7-10pm! Visit our website to see who&#39\;s performing!&nbsp\;
LOCATION:Nikanos
UID:e.882.57873
SEQUENCE:3
DTSTAMP:20260422T094145Z
URL:https://chamber.ogunquit.org/events/details/live-music-at-nikanos-09-26-2026-57873
END:VEVENT

END:VCALENDAR
