BEGIN:VCALENDAR
VERSION:2.0
PRODID:-//ChamberMaster//Event Calendar 2.0//EN
METHOD:PUBLISH
X-PUBLISHED-TTL:P3D
REFRESH-INTERVAL:P3D
CALSCALE:GREGORIAN
BEGIN:VEVENT
DTSTART:20180323T220000Z
DTEND:20180324T010000Z
X-MICROSOFT-CDO-ALLDAYEVENT:FALSE
SUMMARY:Live Music in Tidemark Lounge
DESCRIPTION:Enjoy live music in Tidemark Lounge as you cozy up in front of our enormous fireplace\, from 6:00 - 9:00 p.m. every Friday and Saturday through March.
X-ALT-DESC;FMTTYPE=text/html:<strong>&nbsp\;</strong><span style="color:rgb(98\, 98\, 98)\; font-family:verlag\; font-size:medium">Enjoy live music in Tidemark Lounge as you cozy up in front of our enormous fireplace\, from 6:00 - 9:00 p.m. every Friday and Saturday through March.</span>
LOCATION:Tidemark Lounge
UID:e.882.4211
SEQUENCE:3
DTSTAMP:20260423T034339Z
URL:https://chamber.ogunquit.org/events/details/live-music-in-tidemark-lounge-03-23-2018-4211
END:VEVENT

END:VCALENDAR
