BEGIN:VCALENDAR
VERSION:2.0
PRODID:-//ChamberMaster//Event Calendar 2.0//EN
METHOD:PUBLISH
X-PUBLISHED-TTL:P3D
REFRESH-INTERVAL:P3D
CALSCALE:GREGORIAN
BEGIN:VEVENT
DTSTART:20260805T233000Z
DTEND:20260806T010000Z
X-MICROSOFT-CDO-ALLDAYEVENT:FALSE
SUMMARY:Main Street – Tribute to Bob Seger
DESCRIPTION:Main Street delivers a powerful\, high-energy tribute to Bob Seger\, capturing the grit\, soul\, and heartland rock sound that defined his legendary career. With authentic vocals\, a driving band\, and faithful renditions of classics like "Night Moves\," "Turn the Page\," and "Old Time Rock & Roll\," this show brings Seger's timeless music roaring back to life.
X-ALT-DESC;FMTTYPE=text/html:Main Street delivers a powerful\, high-energy tribute to Bob Seger\, capturing the grit\, soul\, and heartland rock sound that defined his legendary career. With authentic vocals\, a driving band\, and faithful renditions of classics like &ldquo\;Night Moves\,&rdquo\; &ldquo\;Turn the Page\,&rdquo\; and &ldquo\;Old Time Rock &amp\; Roll\,&rdquo\; this show brings Seger&rsquo\;s timeless music roaring back to life.
LOCATION:Jonathan's Ogunquit 92 Bourne Ln\, Ogunquit\, ME 03907
UID:e.882.58361
SEQUENCE:3
DTSTAMP:20260422T111230Z
URL:https://chamber.ogunquit.org/events/details/main-street-tribute-to-bob-seger-58361
END:VEVENT

END:VCALENDAR
