BEGIN:VCALENDAR
VERSION:2.0
PRODID:-//ChamberMaster//Event Calendar 2.0//EN
METHOD:PUBLISH
X-PUBLISHED-TTL:P3D
REFRESH-INTERVAL:P3D
CALSCALE:GREGORIAN
BEGIN:VEVENT
DTSTART:20180527T000000Z
DTEND:20180527T010000Z
X-MICROSOFT-CDO-ALLDAYEVENT:FALSE
SUMMARY:MaineStreet Live Presents Delighted Tobehere in Drag 101
DESCRIPTION:Delighted Tobehere's entertainment career began February 2001 where she performed alongside The Armorettes   "The Infamous Camp Drag Queens of the South"   in the legendary nightclub Backstreet Atlanta. Since her momentous first performance\, she has been a tour de force in the drag scene both on-stage and behind the scenes taking her all the way to America's Got Talent!\n\n\n\nDelighted Tobehere was named as one of the funniest drag queens in America by the Huffington Post\, and the internationally celebrated comedian Pam Ann says that she is "hysterical!"\n\n\n\nJoin Us Memorial Day weekend as Delighted works her magic to delight us with her show Drag 101!  \n\n\n\nTickets available at www.MESTOGT.com
X-ALT-DESC;FMTTYPE=text/html:<span style="color:rgb(29\, 33\, 41)\; font-family:system-ui\,-apple-system\,blinkmacsystemfont\,.sfnstext-regular\,sans-serif\; font-size:14px">Delighted Tobehere&rsquo\;s entertainment career began February 2001 where she performed alongside The Armorettes &ndash\; &ldquo\;The Infamous Camp Drag Queens of the South&rdquo\; &ndash\; in the legendary nightclub Backstreet Atlanta. Since her momentous first performance\, she has been a tour de force in the drag scene both on-stage and behind the scenes taking her all the way to America&#39\;s Got Talent!</span><br />\n<br />\n<span style="color:rgb(29\, 33\, 41)\; font-family:system-ui\,-apple-system\,blinkmacsystemfont\,.sfnstext-regular\,sans-serif\; font-size:14px">Delighted Tobehere was named as one of the funniest drag queens in America by the Huffington Post\, and the internationally celebrated comedian Pam Ann says that she is &ldquo\;hysterical!&rdquo\;<br />\n<br />\nJoin Us Memorial Day weekend as Delighted works her magic to delight us with her show Drag 101! &nbsp\;<br />\n<br />\nTickets available at www.MESTOGT.com</span>
LOCATION:MaineStreet Ogunquit 195 Main Street Ogunquit\, ME 03907
UID:e.882.5061
SEQUENCE:3
DTSTAMP:20260422T225729Z
URL:https://chamber.ogunquit.org/events/details/mainestreet-live-presents-delighted-tobehere-in-drag-101-5061
END:VEVENT

END:VCALENDAR
