BEGIN:VCALENDAR
VERSION:2.0
PRODID:-//ChamberMaster//Event Calendar 2.0//EN
METHOD:PUBLISH
X-PUBLISHED-TTL:P3D
REFRESH-INTERVAL:P3D
CALSCALE:GREGORIAN
BEGIN:VEVENT
DTSTART:20190726T233000Z
DTEND:20190727T003000Z
X-MICROSOFT-CDO-ALLDAYEVENT:FALSE
SUMMARY:Marti Gould Cummings - Farm Boy\, City Girl
DESCRIPTION:Starring: Marti Gould Cummings with piano by Blake Allen\n\n\n\nMarti grew up on a small farm in Maryland and moved to NYC at the age of 17 to pursue a career in the performing arts.\n\n\n\nAfter working as an actor the world of drag came into Marti's life igniting a passion that would become their career.\n\n\n\nAs a drag artist Marti has toured the world entertaining audiences. They can be seen on Fusion TVs show\, SHADE Queens on NYC and as a regular fixture on Bravo TVs Watch What Happens LIVE. \n\n\n\nMarti has appeared through VH1 in a commercial for McDonalds and is the face of NYC GO promoting Pride for the city of New York.\n\n\n\nThey were honored by OUT Magazine on the 2018 Out 100 list and won the Glam Award for Entertainer of the Year in 2019. They have also been nominated for Queerty Award and received the Luminary Award for Dedication to Homeless LGBTQ Youth by The Ali Forney Center\n\n\n\nMarti's music is available on itunes and spotify and you can see them appearing in NYC up to 6 nights a week.\n\n\n\n\n\n\n\nMarti is the founding president of the Hells Kitchen Democrats in NYC and is a current board member of Manhattans Community Board 9 having been appointed by the Borough President of Manhattan.\n\n\n\n\n\n\n\nThey arecurrently serving a two year term on the Mayor of NYCs Nightlife Advisory Council and is a member of the board of directors for The Ali Forney Center for Homeless LGBTQ Youth. \n\n\n\nThey also regularly work with other LGBTQ organizations including The Hetrick Martin Institute
X-ALT-DESC;FMTTYPE=text/html:<span style="color:rgb(29\, 33\, 41)\; font-family:system-ui\,-apple-system\,blinkmacsystemfont\,.sfnstext-regular\,sans-serif\; font-size:14px">Starring: Marti Gould Cummings with piano by Blake Allen</span><br />\n<br />\n<span style="color:rgb(29\, 33\, 41)\; font-family:system-ui\,-apple-system\,blinkmacsystemfont\,.sfnstext-regular\,sans-serif\; font-size:14px">Marti grew up on a small farm in Maryland and moved to NYC at the age of 17 to pursue a career in the performing arts.</span><br />\n<br />\n<span style="color:rgb(29\, 33\, 41)\; font-family:system-ui\,-apple-system\,blinkmacsystemfont\,.sfnstext-regular\,sans-serif\; font-size:14px">After working as an actor the world of drag came into Marti&#39\;s life igniting a passion that would become their career.</span><br />\n<br />\n<span style="color:rgb(29\, 33\, 41)\; font-family:system-ui\,-apple-system\,blinkmacsystemfont\,.sfnstext-regular\,sans-serif\; font-size:14px">As a drag artist Marti has toured the world entertaining audiences. They can be seen on Fusion TVs show\, SHADE Queens on NYC and as a regular fixture on Bravo TVs Watch What Happens LIVE. </span><br />\n<br />\n<span style="color:rgb(29\, 33\, 41)\; font-family:system-ui\,-apple-system\,blinkmacsystemfont\,.sfnstext-regular\,sans-serif\; font-size:14px">Marti has appeared through VH1 in a commercial for McDonalds and is the face of NYC GO promoting Pride for the city of New York.</span><br />\n<br />\n<span style="color:rgb(29\, 33\, 41)\; font-family:system-ui\,-apple-system\,blinkmacsystemfont\,.sfnstext-regular\,sans-serif\; font-size:14px">They were honored by OUT Magazine on the 2018 Out 100 list and won the Glam Award for Entertainer of the Year in 2019. They have also been nominated for Queerty Award and received the Luminary Award for Dedication to Homeless LGBTQ Youth by The Ali Forney Center</span><br />\n<br />\n<span style="color:rgb(29\, 33\, 41)\; font-family:system-ui\,-apple-system\,blinkmacsystemfont\,.sfnstext-regular\,sans-serif\; font-size:14px">Marti&#39\;s music is available on itunes and spotify and you can see them appearing in NYC up to 6 nights a week.</span><br />\n<br />\n<br />\n<br />\n<span style="color:rgb(29\, 33\, 41)\; font-family:system-ui\,-apple-system\,blinkmacsystemfont\,.sfnstext-regular\,sans-serif\; font-size:14px">Marti is the founding president of the Hells Kitchen Democrats in NYC and is a current board member of Manhattans Community Board 9 having been appointed by the Borough President of Manhattan.</span><br />\n<br />\n<br />\n<br />\n<span style="color:rgb(29\, 33\, 41)\; font-family:system-ui\,-apple-system\,blinkmacsystemfont\,.sfnstext-regular\,sans-serif\; font-size:14px">They arecurrently serving a two year term on the Mayor of NYCs Nightlife Advisory Council and is a member of the board of directors for The Ali Forney Center for Homeless LGBTQ Youth. </span><br />\n<br />\n<span style="color:rgb(29\, 33\, 41)\; font-family:system-ui\,-apple-system\,blinkmacsystemfont\,.sfnstext-regular\,sans-serif\; font-size:14px">They also regularly work with other LGBTQ organizations including The Hetrick Martin Institute</span>
LOCATION:MaineStreet Ogunquit 195 Main Street Ogunquit\, ME
UID:e.882.11131
SEQUENCE:3
DTSTAMP:20260419T160148Z
URL:https://chamber.ogunquit.org/events/details/marti-gould-cummings-farm-boy-city-girl-11131
END:VEVENT

END:VCALENDAR
